BEGIN:VCALENDAR
VERSION:2.0
PRODID:-//BC Centre for Palliative Care - ECPv6.15.15//NONSGML v1.0//EN
CALSCALE:GREGORIAN
METHOD:PUBLISH
X-ORIGINAL-URL:https://www.bc-cpc.ca
X-WR-CALDESC:Events for BC Centre for Palliative Care
REFRESH-INTERVAL;VALUE=DURATION:PT1H
X-Robots-Tag:noindex
X-PUBLISHED-TTL:PT1H
BEGIN:VTIMEZONE
TZID:America/Vancouver
BEGIN:DAYLIGHT
TZOFFSETFROM:-0800
TZOFFSETTO:-0700
TZNAME:PDT
DTSTART:20200308T100000
END:DAYLIGHT
BEGIN:STANDARD
TZOFFSETFROM:-0700
TZOFFSETTO:-0800
TZNAME:PST
DTSTART:20201101T090000
END:STANDARD
BEGIN:DAYLIGHT
TZOFFSETFROM:-0800
TZOFFSETTO:-0700
TZNAME:PDT
DTSTART:20210314T100000
END:DAYLIGHT
BEGIN:STANDARD
TZOFFSETFROM:-0700
TZOFFSETTO:-0800
TZNAME:PST
DTSTART:20211107T090000
END:STANDARD
BEGIN:DAYLIGHT
TZOFFSETFROM:-0800
TZOFFSETTO:-0700
TZNAME:PDT
DTSTART:20220313T100000
END:DAYLIGHT
BEGIN:STANDARD
TZOFFSETFROM:-0700
TZOFFSETTO:-0800
TZNAME:PST
DTSTART:20221106T090000
END:STANDARD
BEGIN:DAYLIGHT
TZOFFSETFROM:-0800
TZOFFSETTO:-0700
TZNAME:PDT
DTSTART:20230312T100000
END:DAYLIGHT
BEGIN:STANDARD
TZOFFSETFROM:-0700
TZOFFSETTO:-0800
TZNAME:PST
DTSTART:20231105T090000
END:STANDARD
END:VTIMEZONE
BEGIN:VEVENT
DTSTART;VALUE=DATE:20221014
DTEND;VALUE=DATE:20221015
DTSTAMP:20260423T014812
CREATED:20221003T164813Z
LAST-MODIFIED:20221003T164813Z
UID:24965-1665705600-1665791999@www.bc-cpc.ca
SUMMARY:Palliative Pharmacy Care Course
DESCRIPTION:Pharmacists are integral members of the multi-disciplinary team delivering palliative care to those facing life-threatening illness\, including at the end of life. As more patients wish to remain at home for the end of life\, pharmacists are increasingly called upon to contribute expertise in palliative care pharmacy outside of institutional settings. \nThis course\, specially designed for pharmacists who work with palliative care patients\, their families\, health and community care nurses\, and general practitioners\, is developed in partnership between Victoria Hospice and Continuing Studies at the University of Victoria. \nClick here to learn more and register.
URL:https://www.bc-cpc.ca/event/palliative-pharmacy-care-course/
LOCATION:online
CATEGORIES:Palliative Care,Palliative Domain
END:VEVENT
BEGIN:VEVENT
DTSTART;TZID=America/Vancouver:20210625T100000
DTEND;TZID=America/Vancouver:20210625T120000
DTSTAMP:20260423T014812
CREATED:20210614T161539Z
LAST-MODIFIED:20210614T161539Z
UID:17191-1624615200-1624622400@www.bc-cpc.ca
SUMMARY:ACP Information Session 2 ( Williams Lake Hospice)
DESCRIPTION:[vc_row][vc_column][vc_column_text]Williams Lake Hospice Society \nACP Information Session 2 \nJune 25 \n10:00am-12:00pm \nFor more information or to register contact: Cindy \nCall: 250-398-0119 \nEmail: osc.hospice@yahoo.ca[/vc_column_text][/vc_column][/vc_row][vc_row][vc_column][vc_single_image image=”17184″ img_size=”large”][/vc_column][/vc_row]
URL:https://www.bc-cpc.ca/event/acp-information-session-2-williams-lake-hospice/
LOCATION:online
CATEGORIES:Conversation Events and Information Sessions
END:VEVENT
BEGIN:VEVENT
DTSTART;TZID=America/Vancouver:20210624T100000
DTEND;TZID=America/Vancouver:20210624T120000
DTSTAMP:20260423T014812
CREATED:20210614T161138Z
LAST-MODIFIED:20210614T161138Z
UID:17188-1624528800-1624536000@www.bc-cpc.ca
SUMMARY:ACP Information Session 1 ( Williams Lake Hospice)
DESCRIPTION:[vc_row][vc_column][vc_column_text]Williams Lake Hospice \nACP Information Session 1  \nJune 24 \n10:00am-12:00pm \nFor more information or to register contact: Cindy \nCall: 250-398-0119 \nEmail: 0sc.hospice@yahoo.ca[/vc_column_text][/vc_column][/vc_row][vc_row][vc_column][vc_single_image image=”17184″ img_size=”large”][/vc_column][/vc_row]
URL:https://www.bc-cpc.ca/event/acp-information-session-1-williams-lake-hospice/
LOCATION:online
CATEGORIES:Conversation Events and Information Sessions
END:VEVENT
BEGIN:VEVENT
DTSTART;TZID=America/Vancouver:20210622T100000
DTEND;TZID=America/Vancouver:20210622T120000
DTSTAMP:20260423T014812
CREATED:20210614T160300Z
LAST-MODIFIED:20210614T161229Z
UID:17186-1624356000-1624363200@www.bc-cpc.ca
SUMMARY:Conversation Event (Williams Lake Hospice Society)
DESCRIPTION:[vc_row][vc_column][vc_column_text]Williams Lake Hospice Society \nConversation Event \nJune 22 \n10:00am-12:00pm \nFor more information or to register contact: Cindy \nCall: 250-398-0119 \nEmail: osc.hospice@yahoo.ca[/vc_column_text][/vc_column][/vc_row][vc_row][vc_column][vc_single_image image=”17184″ img_size=”large”][/vc_column][/vc_row]
URL:https://www.bc-cpc.ca/event/conversation-event-williams-lake-hospice-society/
LOCATION:online
CATEGORIES:Conversation Events and Information Sessions
END:VEVENT
BEGIN:VEVENT
DTSTART;TZID=America/Vancouver:20210617T130000
DTEND;TZID=America/Vancouver:20210617T143000
DTSTAMP:20260423T014812
CREATED:20210416T005310Z
LAST-MODIFIED:20210416T005658Z
UID:16592-1623934800-1623940200@www.bc-cpc.ca
SUMMARY:Information Session Part 2 (Ridge Meadows Seniors Society)
DESCRIPTION:[vc_row][vc_column][vc_column_text]Register by May 10\, 2021 \nCall: (604) 380-0516\nEmail: raman@rmssseniors.org \n(in-person)[/vc_column_text][vc_single_image image=”16590″ img_size=”large”][/vc_column][/vc_row]
URL:https://www.bc-cpc.ca/event/information-session-part-2-ridge-meadows-seniors-society-2/
LOCATION:in-person
CATEGORIES:Conversation Events and Information Sessions
END:VEVENT
BEGIN:VEVENT
DTSTART;TZID=America/Vancouver:20210614T103000
DTEND;TZID=America/Vancouver:20210614T120000
DTSTAMP:20260423T014812
CREATED:20210416T003209Z
LAST-MODIFIED:20210416T010116Z
UID:16569-1623666600-1623672000@www.bc-cpc.ca
SUMMARY:Information Session Part 2 (Adult Cognitive Wellness Centre)
DESCRIPTION:[vc_row][vc_column][vc_column_text]To register\nCall: (604) 655-0535\nEmail: info@CognitiveWellness.ca \n(online)[/vc_column_text][vc_single_image image=”16567″ img_size=”large”][/vc_column][/vc_row]
URL:https://www.bc-cpc.ca/event/information-session-part-2-adult-cognitive-wellness-centre-2/
LOCATION:online
CATEGORIES:Conversation Events and Information Sessions
END:VEVENT
BEGIN:VEVENT
DTSTART;TZID=America/Vancouver:20210614T100000
DTEND;TZID=America/Vancouver:20210614T113000
DTSTAMP:20260423T014812
CREATED:20210518T182957Z
LAST-MODIFIED:20210518T182957Z
UID:16973-1623664800-1623670200@www.bc-cpc.ca
SUMMARY:Information Session Part 2 (CareRx Vancouver Downtown Pharmacy)
DESCRIPTION:[vc_row][vc_column][vc_column_text]June 14th \n10:00am-11:30am \n(Online -Microsoft Teams) \nPlease register by June 2nd \nCall: 604-679-1289 \nemail: carerx.vancouver@carerx.ca[/vc_column_text][/vc_column][/vc_row][vc_row][vc_column][vc_single_image image=”16966″ img_size=”large”][/vc_column][/vc_row]
URL:https://www.bc-cpc.ca/event/information-session-part-2-carerx-vancouver-downtown-pharmacy/
LOCATION:online
CATEGORIES:Conversation Events and Information Sessions
END:VEVENT
BEGIN:VEVENT
DTSTART;TZID=America/Vancouver:20210611T100000
DTEND;TZID=America/Vancouver:20210611T113000
DTSTAMP:20260423T014812
CREATED:20210510T195017Z
LAST-MODIFIED:20210510T195017Z
UID:16934-1623405600-1623411000@www.bc-cpc.ca
SUMMARY:Conversation Event (Abbotsford Association for Healthy Aging)
DESCRIPTION:[vc_row][vc_column][vc_column_text]Conversation Event \nJune 11th \n10am-11:30am \nOnline or by phone \nPlease register by June 4th \nCall: 604-854-1733 \nemail: healthyagingabbotsford@gmail.com[/vc_column_text][/vc_column][/vc_row][vc_row][vc_column][vc_single_image image=”16929″ img_size=”large”][/vc_column][/vc_row]
URL:https://www.bc-cpc.ca/event/conversation-event-abbotsford-association-for-healthy-aging/
LOCATION:online
CATEGORIES:Conversation Events and Information Sessions
END:VEVENT
BEGIN:VEVENT
DTSTART;TZID=America/Vancouver:20210610T130000
DTEND;TZID=America/Vancouver:20210610T143000
DTSTAMP:20260423T014812
CREATED:20210416T005200Z
LAST-MODIFIED:20210416T010133Z
UID:16589-1623330000-1623335400@www.bc-cpc.ca
SUMMARY:Information Session Part 1 (Ridge Meadows Seniors Society)
DESCRIPTION:[vc_row][vc_column][vc_column_text]Register by May 10\, 2021 \nCall: (604) 380-0516\nEmail: raman@rmssseniors.org \n(in-person)[/vc_column_text][vc_single_image image=”16590″ img_size=”large”][/vc_column][/vc_row]
URL:https://www.bc-cpc.ca/event/information-session-part-1-ridge-meadows-seniors-society-2/
LOCATION:in-person
CATEGORIES:Conversation Events and Information Sessions
END:VEVENT
BEGIN:VEVENT
DTSTART;TZID=America/Vancouver:20210607T103000
DTEND;TZID=America/Vancouver:20210607T120000
DTSTAMP:20260423T014812
CREATED:20210416T003050Z
LAST-MODIFIED:20210416T010145Z
UID:16566-1623061800-1623067200@www.bc-cpc.ca
SUMMARY:Information Session Part 1 (Adult Cognitive Wellness Centre)
DESCRIPTION:[vc_row][vc_column][vc_column_text]To register\nCall: (604) 655-0535\nEmail: info@CognitiveWellness.ca \n(online)[/vc_column_text][vc_single_image image=”16567″ img_size=”large”][/vc_column][/vc_row]
URL:https://www.bc-cpc.ca/event/information-session-part-1-adult-cognitive-wellness-centre-2/
LOCATION:online
CATEGORIES:Conversation Events and Information Sessions
END:VEVENT
BEGIN:VEVENT
DTSTART;TZID=America/Vancouver:20210607T100000
DTEND;TZID=America/Vancouver:20210607T113000
DTSTAMP:20260423T014812
CREATED:20210518T182616Z
LAST-MODIFIED:20210518T182616Z
UID:16971-1623060000-1623065400@www.bc-cpc.ca
SUMMARY:Information Session Part 1 (CareRX Vancouver Downtown Pharmacy)
DESCRIPTION:[vc_row][vc_column][vc_column_text]June 7th \n10:00am-11:30am \n(Online -Microsoft Teams) \nPlease register by June 2nd \nCall: 604-679-1289 \nemail: carerx.vancouver@carerx.ca[/vc_column_text][/vc_column][/vc_row][vc_row][vc_column][vc_single_image image=”16966″ img_size=”large”][/vc_column][/vc_row]
URL:https://www.bc-cpc.ca/event/information-session-part-1-carerx-vancouver-downtown-pharmacy/
LOCATION:online
CATEGORIES:Conversation Events and Information Sessions
END:VEVENT
BEGIN:VEVENT
DTSTART;TZID=America/Vancouver:20210601T093000
DTEND;TZID=America/Vancouver:20210601T110000
DTSTAMP:20260423T014812
CREATED:20210416T005018Z
LAST-MODIFIED:20210416T010201Z
UID:16587-1622539800-1622545200@www.bc-cpc.ca
SUMMARY:Information Session Part 2 (Ridge Meadows Seniors Society)
DESCRIPTION:[vc_row][vc_column][vc_column_text]Register by May 10\, 2021 \nCall: (604) 380-0516\nEmail: raman@rmssseniors.org \n(in-person)[/vc_column_text][vc_single_image image=”16584″ img_size=”large”][/vc_column][/vc_row]
URL:https://www.bc-cpc.ca/event/information-session-part-2-ridge-meadows-seniors-society/
LOCATION:in-person
CATEGORIES:Conversation Events and Information Sessions
END:VEVENT
BEGIN:VEVENT
DTSTART;TZID=America/Vancouver:20210531T100000
DTEND;TZID=America/Vancouver:20210531T113000
DTSTAMP:20260423T014812
CREATED:20210518T182245Z
LAST-MODIFIED:20210518T182245Z
UID:16969-1622455200-1622460600@www.bc-cpc.ca
SUMMARY:Conversation Event (CareRx Vancouver Downtown Pharmacy)
DESCRIPTION:[vc_row][vc_column][vc_column_text]May 31st \n10:00am-11:30am \n(Online -Microsoft Teams) \nPlease register by May 26th \nCall: 604-679-1289 \nemail: carerx.vancouver@carerx.ca[/vc_column_text][/vc_column][/vc_row][vc_row][vc_column][vc_single_image image=”16965″ img_size=”large”][/vc_column][/vc_row]
URL:https://www.bc-cpc.ca/event/conversation-event-carerx-vancouver-downtown-pharmacy/
LOCATION:online
CATEGORIES:Conversation Events and Information Sessions
END:VEVENT
BEGIN:VEVENT
DTSTART;TZID=America/Vancouver:20210529T110000
DTEND;TZID=America/Vancouver:20210529T123000
DTSTAMP:20260423T014812
CREATED:20210430T205747Z
LAST-MODIFIED:20210430T205747Z
UID:16853-1622286000-1622291400@www.bc-cpc.ca
SUMMARY:Conversation Event (The New Denver Hospice Society)
DESCRIPTION:[vc_row][vc_column][vc_column_text]May 29th 11am- 12:30pm \nPlease register by May 21st\nCall: (250)-551-6190\nE-mail: admin@newdenverhospice.ca[/vc_column_text][/vc_column][/vc_row][vc_row][vc_column][vc_single_image image=”16851″ img_size=”large”][/vc_column][/vc_row]
URL:https://www.bc-cpc.ca/event/conversation-event-the-new-denver-hospice-society-2/
LOCATION:online
CATEGORIES:Conversation Events and Information Sessions
END:VEVENT
BEGIN:VEVENT
DTSTART;TZID=America/Vancouver:20210527T130000
DTEND;TZID=America/Vancouver:20210527T143000
DTSTAMP:20260423T014812
CREATED:20210416T001300Z
LAST-MODIFIED:20210416T010218Z
UID:16552-1622120400-1622125800@www.bc-cpc.ca
SUMMARY:Conversation Event (Ridge Meadows Seniors Society)
DESCRIPTION:[vc_row][vc_column][vc_column_text]Register by May 10\, 2021 \nCall: (604) 380-0516\nEmail: raman@rmssseniors.org \n(in-person)[/vc_column_text][vc_single_image image=”16545″ img_size=”large”][/vc_column][/vc_row]
URL:https://www.bc-cpc.ca/event/conversation-event-ridge-meadows-seniors-society-2/
LOCATION:online
CATEGORIES:Conversation Events and Information Sessions
END:VEVENT
BEGIN:VEVENT
DTSTART;TZID=America/Vancouver:20210526T093000
DTEND;TZID=America/Vancouver:20210526T110000
DTSTAMP:20260423T014812
CREATED:20210416T004856Z
LAST-MODIFIED:20210416T010232Z
UID:16583-1622021400-1622026800@www.bc-cpc.ca
SUMMARY:Information Session Part 1 (Ridge Meadows Seniors Society)
DESCRIPTION:[vc_row][vc_column][vc_column_text]Register by May 10\, 2021 \nCall: (604) 380-0516\nEmail: raman@rmssseniors.org \n(in-person)[/vc_column_text][vc_single_image image=”16584″ img_size=”large”][/vc_column][/vc_row]
URL:https://www.bc-cpc.ca/event/information-session-part-1-ridge-meadows-seniors-society/
LOCATION:in-person
CATEGORIES:Conversation Events and Information Sessions
END:VEVENT
BEGIN:VEVENT
DTSTART;TZID=America/Vancouver:20210525T170000
DTEND;TZID=America/Vancouver:20210525T183000
DTSTAMP:20260423T014812
CREATED:20210430T205337Z
LAST-MODIFIED:20210430T205337Z
UID:16847-1621962000-1621967400@www.bc-cpc.ca
SUMMARY:Conversation Event ( The New Denver Hospice Society)
DESCRIPTION:[vc_row][vc_column][vc_column_text]May 25th 5pm-6:30pm \nPlease register by May 21st \nCall: (250)-551-6190 \nE-mail: admin@newdenverhospice.ca[/vc_column_text][/vc_column][/vc_row][vc_row][vc_column][vc_single_image image=”16851″ img_size=”large”][/vc_column][/vc_row]
URL:https://www.bc-cpc.ca/event/conversation-event-the-new-denver-hospice-society/
LOCATION:online
CATEGORIES:Conversation Events and Information Sessions
END:VEVENT
BEGIN:VEVENT
DTSTART;TZID=America/Vancouver:20210522T100000
DTEND;TZID=America/Vancouver:20210522T120000
DTSTAMP:20260423T014812
CREATED:20210506T165718Z
LAST-MODIFIED:20210506T165718Z
UID:16902-1621677600-1621684800@www.bc-cpc.ca
SUMMARY:Conversation Event (Terrace Hospice Society)
DESCRIPTION:[vc_row][vc_column][vc_column_text]Terrance Hospice Society (Northern BC) \nDate: May 22\, 2021 \nTime: 10:00am- 12:00pm \nLocation: Zoom \nRegister by May 20th\, 2021 \nCall: (250)-635-4811\nEmail: vice.terracehospice@citywest.ca [/vc_column_text][/vc_column][/vc_row][vc_row][vc_column][vc_single_image image=”16901″ img_size=”large”][/vc_column][/vc_row]
URL:https://www.bc-cpc.ca/event/conversation-event-terrace-hospice-society/
LOCATION:online
CATEGORIES:Conversation Events and Information Sessions
END:VEVENT
BEGIN:VEVENT
DTSTART;TZID=America/Vancouver:20210520T183000
DTEND;TZID=America/Vancouver:20210520T203000
DTSTAMP:20260423T014812
CREATED:20210426T195617Z
LAST-MODIFIED:20210426T195705Z
UID:16750-1621535400-1621542600@www.bc-cpc.ca
SUMMARY:Information Session Part 2 (Sunshine Coast Hospice Society)
DESCRIPTION:[vc_row][vc_column][vc_column_text]To register\nCall: (604) 740-0475\nEmail: acp@coasthospice.com[/vc_column_text][vc_single_image image=”16739″ img_size=”large”][/vc_column][/vc_row]
URL:https://www.bc-cpc.ca/event/information-session-part-2-sunshine-coast-hospice-society-2/
LOCATION:online
CATEGORIES:Conversation Events and Information Sessions
END:VEVENT
BEGIN:VEVENT
DTSTART;TZID=America/Vancouver:20210518T183000
DTEND;TZID=America/Vancouver:20210518T203000
DTSTAMP:20260423T014812
CREATED:20210426T195455Z
LAST-MODIFIED:20210426T195455Z
UID:16748-1621362600-1621369800@www.bc-cpc.ca
SUMMARY:Information Session Part 1 (Sunshine Coast Hospice Society)
DESCRIPTION:[vc_row][vc_column][vc_column_text]To register\nCall: (604) 740-0475\nEmail: acp@coasthospice.com[/vc_column_text][vc_single_image image=”16739″ img_size=”large”][/vc_column][/vc_row]
URL:https://www.bc-cpc.ca/event/information-session-part-1-sunshine-coast-hospice-society-2/
LOCATION:online
CATEGORIES:Conversation Events and Information Sessions
END:VEVENT
BEGIN:VEVENT
DTSTART;TZID=America/Vancouver:20210518T090000
DTEND;TZID=America/Vancouver:20210518T100000
DTSTAMP:20260423T014812
CREATED:20210505T201644Z
LAST-MODIFIED:20210505T201644Z
UID:16892-1621328400-1621332000@www.bc-cpc.ca
SUMMARY:Webinar: Guide Training Adaptations for Remote & Hybrid Work
DESCRIPTION:Event hosted by: Ariadne Labs \nJoin us to learn about three different models for adapting the Serious Illness Care Conversation Guide Training to meet the needs of remote and hybrid work environments.  As remote and hybrid work became more prevalent over the last year\, systems implementing the Serious Illness Care Program rapidly transitioned the in-person training\, consisting of didactic and skills practice sessions\, to fully- or partially-virtual modes of delivery.  In this webinar\, we will hear from Drs. Rachelle Bernacki\, Trish Ford\, and Seiko Izumi about each of their adaptations to the training\, and the pros and cons to each.  Additionally\, we’ll learn tips about how to plan your own virtual training from SICP CoP Ambassador\, Danielle Miltz\, with input from fellow Ambassadors\, Emma Penti\, Nancy Joyner\, and Lynn Aiksnoras. \nWe look forward to hearing your adaptations\, learnings\, and questions. \nTo register for this event click here
URL:https://www.bc-cpc.ca/event/webinar-guide-training-adaptations-for-remote-hybrid-work/
CATEGORIES:COVID-19,Palliative Care,Serious Illness Conversation,Webinar,Workshop
END:VEVENT
BEGIN:VEVENT
DTSTART;TZID=America/Vancouver:20210514T103000
DTEND;TZID=America/Vancouver:20210514T123000
DTSTAMP:20260423T014812
CREATED:20210426T195336Z
LAST-MODIFIED:20210426T195336Z
UID:16746-1620988200-1620995400@www.bc-cpc.ca
SUMMARY:Information Session Part 2 (Sunshine Coast Hospice Society)
DESCRIPTION:[vc_row][vc_column][vc_column_text]To register\nCall: (604) 740-0475\nEmail: acp@coasthospice.com[/vc_column_text][vc_single_image image=”16739″ img_size=”large”][/vc_column][/vc_row]
URL:https://www.bc-cpc.ca/event/information-session-part-2-sunshine-coast-hospice-society/
LOCATION:online
CATEGORIES:Conversation Events and Information Sessions
END:VEVENT
BEGIN:VEVENT
DTSTART;TZID=America/Vancouver:20210513T140000
DTEND;TZID=America/Vancouver:20210513T150000
DTSTAMP:20260423T014812
CREATED:20210416T003654Z
LAST-MODIFIED:20210416T010331Z
UID:16574-1620914400-1620918000@www.bc-cpc.ca
SUMMARY:Information Session Part 2 (Family Caregivers of British Columbia)
DESCRIPTION:[vc_row][vc_column][vc_column_text]Register at: https://us02web.zoom.us/meeting/register/tZAtdu2srDksGNeM6om-C1gRqUkd5mbvUttU \nCall: (250) 940-4602\nEmail: lyciarodrigues@familycaregiversbc.ca \n(online)[/vc_column_text][vc_single_image image=”16572″ img_size=”large”][/vc_column][/vc_row]
URL:https://www.bc-cpc.ca/event/information-session-part-2-family-caregivers-of-british-columbia/
LOCATION:online
CATEGORIES:Conversation Events and Information Sessions
END:VEVENT
BEGIN:VEVENT
DTSTART;TZID=America/Vancouver:20210511T103000
DTEND;TZID=America/Vancouver:20210511T123000
DTSTAMP:20260423T014812
CREATED:20210426T195210Z
LAST-MODIFIED:20210426T195210Z
UID:16744-1620729000-1620736200@www.bc-cpc.ca
SUMMARY:Information Session Part 1 (Sunshine Coast Hospice Society)
DESCRIPTION:[vc_row][vc_column][vc_column_text]To register\nCall: (604) 740-0475\nEmail: acp@coasthospice.com[/vc_column_text][vc_single_image image=”16739″ img_size=”large”][/vc_column][/vc_row]
URL:https://www.bc-cpc.ca/event/information-session-part-1-sunshine-coast-hospice-society/
LOCATION:online
CATEGORIES:Conversation Events and Information Sessions
END:VEVENT
BEGIN:VEVENT
DTSTART;TZID=America/Vancouver:20210511T093000
DTEND;TZID=America/Vancouver:20210511T110000
DTSTAMP:20260423T014812
CREATED:20210416T000636Z
LAST-MODIFIED:20210416T010346Z
UID:16544-1620725400-1620730800@www.bc-cpc.ca
SUMMARY:Conversation Event (Ridge Meadows Seniors Society)
DESCRIPTION:[vc_row][vc_column][vc_column_text]Register by May 10\, 2021 \nCall: (604) 380-0516\nEmail: raman@rmssseniors.org \n(in-person)[/vc_column_text][/vc_column][/vc_row][vc_row][vc_column][vc_single_image image=”16545″ img_size=”large”][/vc_column][/vc_row]
URL:https://www.bc-cpc.ca/event/conversation-event-ridge-meadows-seniors-society/
LOCATION:online
CATEGORIES:Conversation Events and Information Sessions
END:VEVENT
BEGIN:VEVENT
DTSTART;TZID=America/Vancouver:20210510T100000
DTEND;TZID=America/Vancouver:20210510T113000
DTSTAMP:20260423T014812
CREATED:20210419T230728Z
LAST-MODIFIED:20210419T230806Z
UID:16662-1620640800-1620646200@www.bc-cpc.ca
SUMMARY:Information Session Part 2 (CareRx)
DESCRIPTION:[vc_row][vc_column][vc_column_text]Register by Wednesday April 28\, 2021 \nCall: (604) 679-1289 \nEmail: carerx.vancouver@carerx.ca[/vc_column_text][vc_single_image image=”16657″ img_size=”large”][/vc_column][/vc_row]
URL:https://www.bc-cpc.ca/event/information-session-part-2-carerx/
CATEGORIES:Conversation Events and Information Sessions
END:VEVENT
BEGIN:VEVENT
DTSTART;TZID=America/Vancouver:20210507T103000
DTEND;TZID=America/Vancouver:20210507T120000
DTSTAMP:20260423T014812
CREATED:20210426T194856Z
LAST-MODIFIED:20210426T194856Z
UID:16741-1620383400-1620388800@www.bc-cpc.ca
SUMMARY:Conversation Event (Sunshine Coast Hospice Society)
DESCRIPTION:[vc_row][vc_column][vc_column_text]Register by May 5th\nCall: (604) 740-0475\nEmail: acp@coasthospice.com[/vc_column_text][vc_single_image image=”16740″ img_size=”large”][/vc_column][/vc_row]
URL:https://www.bc-cpc.ca/event/conversation-event-sunshine-coast-hospice-society-3/
LOCATION:online
CATEGORIES:Conversation Events and Information Sessions
END:VEVENT
BEGIN:VEVENT
DTSTART;TZID=America/Vancouver:20210503T103000
DTEND;TZID=America/Vancouver:20210503T120000
DTSTAMP:20260423T014812
CREATED:20210416T002846Z
LAST-MODIFIED:20210416T010410Z
UID:16564-1620037800-1620043200@www.bc-cpc.ca
SUMMARY:Information Session Part 2 (Adult Cognitive Wellness Centre)
DESCRIPTION:[vc_row][vc_column][vc_column_text]To register\nCall: (604) 655-0535\nEmail: info@CognitiveWellness.ca \n(online)[/vc_column_text][vc_single_image image=”16559″ img_size=”large”][/vc_column][/vc_row]
URL:https://www.bc-cpc.ca/event/information-session-part-2-adult-cognitive-wellness-centre/
LOCATION:online
CATEGORIES:Conversation Events and Information Sessions
END:VEVENT
BEGIN:VEVENT
DTSTART;TZID=America/Vancouver:20210503T100000
DTEND;TZID=America/Vancouver:20210503T113000
DTSTAMP:20260423T014812
CREATED:20210419T230612Z
LAST-MODIFIED:20210419T230612Z
UID:16660-1620036000-1620041400@www.bc-cpc.ca
SUMMARY:Information Session Part 1 (CareRx)
DESCRIPTION:[vc_row][vc_column][vc_column_text]Register by Wednesday April 28\, 2021 \nCall: (604) 679-1289 \nEmail: carerx.vancouver@carerx.ca[/vc_column_text][vc_single_image image=”16657″ img_size=”large”][/vc_column][/vc_row]
URL:https://www.bc-cpc.ca/event/information-session-part-1-carerx/
CATEGORIES:Conversation Events and Information Sessions
END:VEVENT
BEGIN:VEVENT
DTSTART;TZID=America/Vancouver:20210429T140000
DTEND;TZID=America/Vancouver:20210429T150000
DTSTAMP:20260423T014812
CREATED:20210416T003458Z
LAST-MODIFIED:20210416T010508Z
UID:16571-1619704800-1619708400@www.bc-cpc.ca
SUMMARY:Information Session Part 1 (Family Caregivers of British Columbia)
DESCRIPTION:[vc_row][vc_column][vc_column_text]Register at: https://us02web.zoom.us/meeting/register/tZAtdu2srDksGNeM6om-C1gRqUkd5mbvUttU \nCall: (250) 940-4602\nEmail: lyciarodrigues@familycaregiversbc.ca \n(online)[/vc_column_text][vc_single_image image=”16572″ img_size=”large”][/vc_column][/vc_row]
URL:https://www.bc-cpc.ca/event/information-session-part-1-family-caregivers-of-british-columbia/
LOCATION:online
CATEGORIES:Conversation Events and Information Sessions
END:VEVENT
END:VCALENDAR