BEGIN:VCALENDAR
VERSION:2.0
PRODID:-//BC Centre for Palliative Care - ECPv6.15.15//NONSGML v1.0//EN
CALSCALE:GREGORIAN
METHOD:PUBLISH
X-WR-CALNAME:BC Centre for Palliative Care
X-ORIGINAL-URL:https://www.bc-cpc.ca
X-WR-CALDESC:Events for BC Centre for Palliative Care
REFRESH-INTERVAL;VALUE=DURATION:PT1H
X-Robots-Tag:noindex
X-PUBLISHED-TTL:PT1H
BEGIN:VTIMEZONE
TZID:America/Vancouver
BEGIN:DAYLIGHT
TZOFFSETFROM:-0800
TZOFFSETTO:-0700
TZNAME:PDT
DTSTART:20230312T100000
END:DAYLIGHT
BEGIN:STANDARD
TZOFFSETFROM:-0700
TZOFFSETTO:-0800
TZNAME:PST
DTSTART:20231105T090000
END:STANDARD
BEGIN:DAYLIGHT
TZOFFSETFROM:-0800
TZOFFSETTO:-0700
TZNAME:PDT
DTSTART:20240310T100000
END:DAYLIGHT
BEGIN:STANDARD
TZOFFSETFROM:-0700
TZOFFSETTO:-0800
TZNAME:PST
DTSTART:20241103T090000
END:STANDARD
BEGIN:DAYLIGHT
TZOFFSETFROM:-0800
TZOFFSETTO:-0700
TZNAME:PDT
DTSTART:20250309T100000
END:DAYLIGHT
BEGIN:STANDARD
TZOFFSETFROM:-0700
TZOFFSETTO:-0800
TZNAME:PST
DTSTART:20251102T090000
END:STANDARD
END:VTIMEZONE
BEGIN:VEVENT
DTSTART;TZID=America/Vancouver:20240611T100000
DTEND;TZID=America/Vancouver:20240611T120000
DTSTAMP:20260424T085826
CREATED:20240224T005139Z
LAST-MODIFIED:20240224T005327Z
UID:32044-1718100000-1718107200@www.bc-cpc.ca
SUMMARY:ACP Facilitator Training
DESCRIPTION:This 3-part online training for BC non-profits equips your organization to host ACP sessions to members of the public. Includes 6 hours of training\, a robust library of resources & coaching to help you get started.
URL:https://www.bc-cpc.ca/event/acp-facilitator-training-2/
LOCATION:online
CATEGORIES:Advance Care Planning
ORGANIZER;CN="BC Centre for Palliative Care":MAILTO:office@bc-cpc.ca
END:VEVENT
BEGIN:VEVENT
DTSTART;TZID=America/Vancouver:20240611T100000
DTEND;TZID=America/Vancouver:20240611T120000
DTSTAMP:20260424T085826
CREATED:20240224T005139Z
LAST-MODIFIED:20240224T005327Z
UID:32044-1718100000-1718107200@www.bc-cpc.ca
SUMMARY:ACP Facilitator Training
DESCRIPTION:This 3-part online training for BC non-profits equips your organization to host ACP sessions to members of the public. Includes 6 hours of training\, a robust library of resources & coaching to help you get started.
URL:https://www.bc-cpc.ca/event/acp-facilitator-training-2/
LOCATION:online
CATEGORIES:Advance Care Planning
ORGANIZER;CN="BC Centre for Palliative Care":MAILTO:office@bc-cpc.ca
END:VEVENT
BEGIN:VEVENT
DTSTART;TZID=America/Vancouver:20240108T173000
DTEND;TZID=America/Vancouver:20240108T193000
DTSTAMP:20260424T085826
CREATED:20240102T233155Z
LAST-MODIFIED:20240125T214159Z
UID:31576-1704735000-1704742200@www.bc-cpc.ca
SUMMARY:Grief Chats Q&A
DESCRIPTION:Join grief specialists Maxxine Rattner (MSW\, RSW) and Marney Thompson (MA\, RCC) for the first Grief Chats Q&A – a monthly webinar where they will respond to your questions about loss and grief. \nClick to Register
URL:https://www.bc-cpc.ca/event/grief-chats-qa/
LOCATION:online
CATEGORIES:Grief & Bereavement,Loss, Grief, & Bereavement,Serious Illness Conversation,Webinar
END:VEVENT
BEGIN:VEVENT
DTSTART;TZID=America/Vancouver:20240108T173000
DTEND;TZID=America/Vancouver:20240108T193000
DTSTAMP:20260424T085826
CREATED:20240102T233155Z
LAST-MODIFIED:20240125T214159Z
UID:31576-1704735000-1704742200@www.bc-cpc.ca
SUMMARY:Grief Chats Q&A
DESCRIPTION:Join grief specialists Maxxine Rattner (MSW\, RSW) and Marney Thompson (MA\, RCC) for the first Grief Chats Q&A – a monthly webinar where they will respond to your questions about loss and grief. \nClick to Register
URL:https://www.bc-cpc.ca/event/grief-chats-qa/
LOCATION:online
CATEGORIES:Grief & Bereavement,Loss, Grief, & Bereavement,Serious Illness Conversation,Webinar
END:VEVENT
BEGIN:VEVENT
DTSTART;TZID=America/Vancouver:20240108T173000
DTEND;TZID=America/Vancouver:20240108T193000
DTSTAMP:20260424T085826
CREATED:20240102T233155Z
LAST-MODIFIED:20240125T214159Z
UID:31576-1704735000-1704742200@www.bc-cpc.ca
SUMMARY:Grief Chats Q&A
DESCRIPTION:Join grief specialists Maxxine Rattner (MSW\, RSW) and Marney Thompson (MA\, RCC) for the first Grief Chats Q&A – a monthly webinar where they will respond to your questions about loss and grief. \nClick to Register
URL:https://www.bc-cpc.ca/event/grief-chats-qa/
LOCATION:online
CATEGORIES:Grief & Bereavement,Loss, Grief, & Bereavement,Serious Illness Conversation,Webinar
END:VEVENT
BEGIN:VEVENT
DTSTART;TZID=America/Vancouver:20240108T173000
DTEND;TZID=America/Vancouver:20240108T193000
DTSTAMP:20260424T085826
CREATED:20240102T233155Z
LAST-MODIFIED:20240125T214159Z
UID:31576-1704735000-1704742200@www.bc-cpc.ca
SUMMARY:Grief Chats Q&A
DESCRIPTION:Join grief specialists Maxxine Rattner (MSW\, RSW) and Marney Thompson (MA\, RCC) for the first Grief Chats Q&A – a monthly webinar where they will respond to your questions about loss and grief. \nClick to Register
URL:https://www.bc-cpc.ca/event/grief-chats-qa/
LOCATION:online
CATEGORIES:Grief & Bereavement,Loss, Grief, & Bereavement,Serious Illness Conversation,Webinar
END:VEVENT
BEGIN:VEVENT
DTSTART;TZID=America/Vancouver:20240108T173000
DTEND;TZID=America/Vancouver:20240108T193000
DTSTAMP:20260424T085826
CREATED:20240102T233155Z
LAST-MODIFIED:20240125T214159Z
UID:31576-1704735000-1704742200@www.bc-cpc.ca
SUMMARY:Grief Chats Q&A
DESCRIPTION:Join grief specialists Maxxine Rattner (MSW\, RSW) and Marney Thompson (MA\, RCC) for the first Grief Chats Q&A – a monthly webinar where they will respond to your questions about loss and grief. \nClick to Register
URL:https://www.bc-cpc.ca/event/grief-chats-qa/
LOCATION:online
CATEGORIES:Grief & Bereavement,Loss, Grief, & Bereavement,Serious Illness Conversation,Webinar
END:VEVENT
BEGIN:VEVENT
DTSTART;TZID=America/Vancouver:20240108T173000
DTEND;TZID=America/Vancouver:20240108T193000
DTSTAMP:20260424T085826
CREATED:20240102T233155Z
LAST-MODIFIED:20240125T214159Z
UID:31576-1704735000-1704742200@www.bc-cpc.ca
SUMMARY:Grief Chats Q&A
DESCRIPTION:Join grief specialists Maxxine Rattner (MSW\, RSW) and Marney Thompson (MA\, RCC) for the first Grief Chats Q&A – a monthly webinar where they will respond to your questions about loss and grief. \nClick to Register
URL:https://www.bc-cpc.ca/event/grief-chats-qa/
LOCATION:online
CATEGORIES:Grief & Bereavement,Loss, Grief, & Bereavement,Serious Illness Conversation,Webinar
END:VEVENT
END:VCALENDAR