BEGIN:VCALENDAR
VERSION:2.0
PRODID:-//BC Centre for Palliative Care - ECPv6.15.15//NONSGML v1.0//EN
CALSCALE:GREGORIAN
METHOD:PUBLISH
X-WR-CALNAME:BC Centre for Palliative Care
X-ORIGINAL-URL:https://www.bc-cpc.ca
X-WR-CALDESC:Events for BC Centre for Palliative Care
REFRESH-INTERVAL;VALUE=DURATION:PT1H
X-Robots-Tag:noindex
X-PUBLISHED-TTL:PT1H
BEGIN:VTIMEZONE
TZID:America/Vancouver
BEGIN:DAYLIGHT
TZOFFSETFROM:-0800
TZOFFSETTO:-0700
TZNAME:PDT
DTSTART:20200308T100000
END:DAYLIGHT
BEGIN:STANDARD
TZOFFSETFROM:-0700
TZOFFSETTO:-0800
TZNAME:PST
DTSTART:20201101T090000
END:STANDARD
BEGIN:DAYLIGHT
TZOFFSETFROM:-0800
TZOFFSETTO:-0700
TZNAME:PDT
DTSTART:20210314T100000
END:DAYLIGHT
BEGIN:STANDARD
TZOFFSETFROM:-0700
TZOFFSETTO:-0800
TZNAME:PST
DTSTART:20211107T090000
END:STANDARD
BEGIN:DAYLIGHT
TZOFFSETFROM:-0800
TZOFFSETTO:-0700
TZNAME:PDT
DTSTART:20220313T100000
END:DAYLIGHT
BEGIN:STANDARD
TZOFFSETFROM:-0700
TZOFFSETTO:-0800
TZNAME:PST
DTSTART:20221106T090000
END:STANDARD
BEGIN:DAYLIGHT
TZOFFSETFROM:-0800
TZOFFSETTO:-0700
TZNAME:PDT
DTSTART:20230312T100000
END:DAYLIGHT
BEGIN:STANDARD
TZOFFSETFROM:-0700
TZOFFSETTO:-0800
TZNAME:PST
DTSTART:20231105T090000
END:STANDARD
BEGIN:DAYLIGHT
TZOFFSETFROM:-0800
TZOFFSETTO:-0700
TZNAME:PDT
DTSTART:20240310T100000
END:DAYLIGHT
BEGIN:STANDARD
TZOFFSETFROM:-0700
TZOFFSETTO:-0800
TZNAME:PST
DTSTART:20241103T090000
END:STANDARD
BEGIN:DAYLIGHT
TZOFFSETFROM:-0800
TZOFFSETTO:-0700
TZNAME:PDT
DTSTART:20250309T100000
END:DAYLIGHT
BEGIN:STANDARD
TZOFFSETFROM:-0700
TZOFFSETTO:-0800
TZNAME:PST
DTSTART:20251102T090000
END:STANDARD
END:VTIMEZONE
BEGIN:VEVENT
DTSTART;TZID=America/Vancouver:20240108T173000
DTEND;TZID=America/Vancouver:20240108T193000
DTSTAMP:20260422T184228
CREATED:20240102T233155Z
LAST-MODIFIED:20240125T214159Z
UID:31576-1704735000-1704742200@www.bc-cpc.ca
SUMMARY:Grief Chats Q&A
DESCRIPTION:Join grief specialists Maxxine Rattner (MSW\, RSW) and Marney Thompson (MA\, RCC) for the first Grief Chats Q&A – a monthly webinar where they will respond to your questions about loss and grief. \nClick to Register
URL:https://www.bc-cpc.ca/event/grief-chats-qa/
LOCATION:online
CATEGORIES:Grief & Bereavement,Loss, Grief, & Bereavement,Serious Illness Conversation,Webinar
END:VEVENT
BEGIN:VEVENT
DTSTART;TZID=America/Vancouver:20240108T173000
DTEND;TZID=America/Vancouver:20240108T193000
DTSTAMP:20260422T184228
CREATED:20240102T233155Z
LAST-MODIFIED:20240125T214159Z
UID:31576-1704735000-1704742200@www.bc-cpc.ca
SUMMARY:Grief Chats Q&A
DESCRIPTION:Join grief specialists Maxxine Rattner (MSW\, RSW) and Marney Thompson (MA\, RCC) for the first Grief Chats Q&A – a monthly webinar where they will respond to your questions about loss and grief. \nClick to Register
URL:https://www.bc-cpc.ca/event/grief-chats-qa/
LOCATION:online
CATEGORIES:Grief & Bereavement,Loss, Grief, & Bereavement,Serious Illness Conversation,Webinar
END:VEVENT
BEGIN:VEVENT
DTSTART;TZID=America/Vancouver:20240108T173000
DTEND;TZID=America/Vancouver:20240108T193000
DTSTAMP:20260422T184228
CREATED:20240102T233155Z
LAST-MODIFIED:20240125T214159Z
UID:31576-1704735000-1704742200@www.bc-cpc.ca
SUMMARY:Grief Chats Q&A
DESCRIPTION:Join grief specialists Maxxine Rattner (MSW\, RSW) and Marney Thompson (MA\, RCC) for the first Grief Chats Q&A – a monthly webinar where they will respond to your questions about loss and grief. \nClick to Register
URL:https://www.bc-cpc.ca/event/grief-chats-qa/
LOCATION:online
CATEGORIES:Grief & Bereavement,Loss, Grief, & Bereavement,Serious Illness Conversation,Webinar
END:VEVENT
BEGIN:VEVENT
DTSTART;TZID=America/Vancouver:20240108T173000
DTEND;TZID=America/Vancouver:20240108T193000
DTSTAMP:20260422T184228
CREATED:20240102T233155Z
LAST-MODIFIED:20240125T214159Z
UID:31576-1704735000-1704742200@www.bc-cpc.ca
SUMMARY:Grief Chats Q&A
DESCRIPTION:Join grief specialists Maxxine Rattner (MSW\, RSW) and Marney Thompson (MA\, RCC) for the first Grief Chats Q&A – a monthly webinar where they will respond to your questions about loss and grief. \nClick to Register
URL:https://www.bc-cpc.ca/event/grief-chats-qa/
LOCATION:online
CATEGORIES:Grief & Bereavement,Loss, Grief, & Bereavement,Serious Illness Conversation,Webinar
END:VEVENT
BEGIN:VEVENT
DTSTART;TZID=America/Vancouver:20240108T173000
DTEND;TZID=America/Vancouver:20240108T193000
DTSTAMP:20260422T184228
CREATED:20240102T233155Z
LAST-MODIFIED:20240125T214159Z
UID:31576-1704735000-1704742200@www.bc-cpc.ca
SUMMARY:Grief Chats Q&A
DESCRIPTION:Join grief specialists Maxxine Rattner (MSW\, RSW) and Marney Thompson (MA\, RCC) for the first Grief Chats Q&A – a monthly webinar where they will respond to your questions about loss and grief. \nClick to Register
URL:https://www.bc-cpc.ca/event/grief-chats-qa/
LOCATION:online
CATEGORIES:Grief & Bereavement,Loss, Grief, & Bereavement,Serious Illness Conversation,Webinar
END:VEVENT
BEGIN:VEVENT
DTSTART;TZID=America/Vancouver:20240108T173000
DTEND;TZID=America/Vancouver:20240108T193000
DTSTAMP:20260422T184228
CREATED:20240102T233155Z
LAST-MODIFIED:20240125T214159Z
UID:31576-1704735000-1704742200@www.bc-cpc.ca
SUMMARY:Grief Chats Q&A
DESCRIPTION:Join grief specialists Maxxine Rattner (MSW\, RSW) and Marney Thompson (MA\, RCC) for the first Grief Chats Q&A – a monthly webinar where they will respond to your questions about loss and grief. \nClick to Register
URL:https://www.bc-cpc.ca/event/grief-chats-qa/
LOCATION:online
CATEGORIES:Grief & Bereavement,Loss, Grief, & Bereavement,Serious Illness Conversation,Webinar
END:VEVENT
BEGIN:VEVENT
DTSTART;TZID=America/Vancouver:20240611T100000
DTEND;TZID=America/Vancouver:20240611T120000
DTSTAMP:20260422T184228
CREATED:20240224T005139Z
LAST-MODIFIED:20240224T005327Z
UID:32044-1718100000-1718107200@www.bc-cpc.ca
SUMMARY:ACP Facilitator Training
DESCRIPTION:This 3-part online training for BC non-profits equips your organization to host ACP sessions to members of the public. Includes 6 hours of training\, a robust library of resources & coaching to help you get started.
URL:https://www.bc-cpc.ca/event/acp-facilitator-training-2/
LOCATION:online
CATEGORIES:Advance Care Planning
ORGANIZER;CN="BC Centre for Palliative Care":MAILTO:office@bc-cpc.ca
END:VEVENT
BEGIN:VEVENT
DTSTART;TZID=America/Vancouver:20240611T100000
DTEND;TZID=America/Vancouver:20240611T120000
DTSTAMP:20260422T184228
CREATED:20240224T005139Z
LAST-MODIFIED:20240224T005327Z
UID:32044-1718100000-1718107200@www.bc-cpc.ca
SUMMARY:ACP Facilitator Training
DESCRIPTION:This 3-part online training for BC non-profits equips your organization to host ACP sessions to members of the public. Includes 6 hours of training\, a robust library of resources & coaching to help you get started.
URL:https://www.bc-cpc.ca/event/acp-facilitator-training-2/
LOCATION:online
CATEGORIES:Advance Care Planning
ORGANIZER;CN="BC Centre for Palliative Care":MAILTO:office@bc-cpc.ca
END:VEVENT
BEGIN:VEVENT
DTSTART;TZID=America/Vancouver:20240611T100000
DTEND;TZID=America/Vancouver:20240611T120000
DTSTAMP:20260422T184228
CREATED:20240224T005139Z
LAST-MODIFIED:20240224T005327Z
UID:32044-1718100000-1718107200@www.bc-cpc.ca
SUMMARY:ACP Facilitator Training
DESCRIPTION:This 3-part online training for BC non-profits equips your organization to host ACP sessions to members of the public. Includes 6 hours of training\, a robust library of resources & coaching to help you get started.
URL:https://www.bc-cpc.ca/event/acp-facilitator-training-2/
LOCATION:online
CATEGORIES:Advance Care Planning
ORGANIZER;CN="BC Centre for Palliative Care":MAILTO:office@bc-cpc.ca
END:VEVENT
BEGIN:VEVENT
DTSTART;TZID=America/Vancouver:20240108T173000
DTEND;TZID=America/Vancouver:20240108T193000
DTSTAMP:20260422T184228
CREATED:20240102T233155Z
LAST-MODIFIED:20240125T214159Z
UID:31576-1704735000-1704742200@www.bc-cpc.ca
SUMMARY:Grief Chats Q&A
DESCRIPTION:Join grief specialists Maxxine Rattner (MSW\, RSW) and Marney Thompson (MA\, RCC) for the first Grief Chats Q&A – a monthly webinar where they will respond to your questions about loss and grief. \nClick to Register
URL:https://www.bc-cpc.ca/event/grief-chats-qa/
LOCATION:online
CATEGORIES:Grief & Bereavement,Loss, Grief, & Bereavement,Serious Illness Conversation,Webinar
END:VEVENT
BEGIN:VEVENT
DTSTART;TZID=America/Vancouver:20240108T173000
DTEND;TZID=America/Vancouver:20240108T193000
DTSTAMP:20260422T184228
CREATED:20240102T233155Z
LAST-MODIFIED:20240125T214159Z
UID:31576-1704735000-1704742200@www.bc-cpc.ca
SUMMARY:Grief Chats Q&A
DESCRIPTION:Join grief specialists Maxxine Rattner (MSW\, RSW) and Marney Thompson (MA\, RCC) for the first Grief Chats Q&A – a monthly webinar where they will respond to your questions about loss and grief. \nClick to Register
URL:https://www.bc-cpc.ca/event/grief-chats-qa/
LOCATION:online
CATEGORIES:Grief & Bereavement,Loss, Grief, & Bereavement,Serious Illness Conversation,Webinar
END:VEVENT
BEGIN:VEVENT
DTSTART;TZID=America/Vancouver:20240108T173000
DTEND;TZID=America/Vancouver:20240108T193000
DTSTAMP:20260422T184228
CREATED:20240102T233155Z
LAST-MODIFIED:20240125T214159Z
UID:31576-1704735000-1704742200@www.bc-cpc.ca
SUMMARY:Grief Chats Q&A
DESCRIPTION:Join grief specialists Maxxine Rattner (MSW\, RSW) and Marney Thompson (MA\, RCC) for the first Grief Chats Q&A – a monthly webinar where they will respond to your questions about loss and grief. \nClick to Register
URL:https://www.bc-cpc.ca/event/grief-chats-qa/
LOCATION:online
CATEGORIES:Grief & Bereavement,Loss, Grief, & Bereavement,Serious Illness Conversation,Webinar
END:VEVENT
BEGIN:VEVENT
DTSTART;TZID=America/Vancouver:20240312T100000
DTEND;TZID=America/Vancouver:20240312T120000
DTSTAMP:20260422T184228
CREATED:20240224T004947Z
LAST-MODIFIED:20240224T005425Z
UID:32040-1710237600-1710244800@www.bc-cpc.ca
SUMMARY:ACP Facilitator Training
DESCRIPTION:This 3-part online training for BC non-profits equips your organization to host ACP sessions to members of the public. Includes 6 hours of training\, a robust library of resources & coaching to help you get started.
URL:https://www.bc-cpc.ca/event/acp-facilitator-training/
LOCATION:online
CATEGORIES:Advance Care Planning
ORGANIZER;CN="BC Centre for Palliative Care":MAILTO:office@bc-cpc.ca
END:VEVENT
BEGIN:VEVENT
DTSTART;TZID=America/Vancouver:20240312T100000
DTEND;TZID=America/Vancouver:20240312T120000
DTSTAMP:20260422T184228
CREATED:20240224T004947Z
LAST-MODIFIED:20240224T005425Z
UID:32040-1710237600-1710244800@www.bc-cpc.ca
SUMMARY:ACP Facilitator Training
DESCRIPTION:This 3-part online training for BC non-profits equips your organization to host ACP sessions to members of the public. Includes 6 hours of training\, a robust library of resources & coaching to help you get started.
URL:https://www.bc-cpc.ca/event/acp-facilitator-training/
LOCATION:online
CATEGORIES:Advance Care Planning
ORGANIZER;CN="BC Centre for Palliative Care":MAILTO:office@bc-cpc.ca
END:VEVENT
BEGIN:VEVENT
DTSTART;TZID=America/Vancouver:20240312T100000
DTEND;TZID=America/Vancouver:20240312T120000
DTSTAMP:20260422T184228
CREATED:20240224T004947Z
LAST-MODIFIED:20240224T005425Z
UID:32040-1710237600-1710244800@www.bc-cpc.ca
SUMMARY:ACP Facilitator Training
DESCRIPTION:This 3-part online training for BC non-profits equips your organization to host ACP sessions to members of the public. Includes 6 hours of training\, a robust library of resources & coaching to help you get started.
URL:https://www.bc-cpc.ca/event/acp-facilitator-training/
LOCATION:online
CATEGORIES:Advance Care Planning
ORGANIZER;CN="BC Centre for Palliative Care":MAILTO:office@bc-cpc.ca
END:VEVENT
BEGIN:VEVENT
DTSTART;TZID=America/Vancouver:20240108T173000
DTEND;TZID=America/Vancouver:20240108T193000
DTSTAMP:20260422T184228
CREATED:20240102T233155Z
LAST-MODIFIED:20240125T214159Z
UID:31576-1704735000-1704742200@www.bc-cpc.ca
SUMMARY:Grief Chats Q&A
DESCRIPTION:Join grief specialists Maxxine Rattner (MSW\, RSW) and Marney Thompson (MA\, RCC) for the first Grief Chats Q&A – a monthly webinar where they will respond to your questions about loss and grief. \nClick to Register
URL:https://www.bc-cpc.ca/event/grief-chats-qa/
LOCATION:online
CATEGORIES:Grief & Bereavement,Loss, Grief, & Bereavement,Serious Illness Conversation,Webinar
END:VEVENT
BEGIN:VEVENT
DTSTART;TZID=America/Vancouver:20240108T173000
DTEND;TZID=America/Vancouver:20240108T193000
DTSTAMP:20260422T184228
CREATED:20240102T233155Z
LAST-MODIFIED:20240125T214159Z
UID:31576-1704735000-1704742200@www.bc-cpc.ca
SUMMARY:Grief Chats Q&A
DESCRIPTION:Join grief specialists Maxxine Rattner (MSW\, RSW) and Marney Thompson (MA\, RCC) for the first Grief Chats Q&A – a monthly webinar where they will respond to your questions about loss and grief. \nClick to Register
URL:https://www.bc-cpc.ca/event/grief-chats-qa/
LOCATION:online
CATEGORIES:Grief & Bereavement,Loss, Grief, & Bereavement,Serious Illness Conversation,Webinar
END:VEVENT
BEGIN:VEVENT
DTSTART;VALUE=DATE:20240202
DTEND;VALUE=DATE:20240316
DTSTAMP:20260422T184228
CREATED:20240115T235319Z
LAST-MODIFIED:20240115T235319Z
UID:31650-1706832000-1710547199@www.bc-cpc.ca
SUMMARY:Palliative Care Pharmacy
DESCRIPTION:ONLINE HEALTH PROFESSIONAL DEVELOPMENT – Developed in partnership between Victoria Hospice and Continuing Studies at the University of Victoria. \nLearners will acquire the specialized knowledge and skills to support patients and families as well as other members of the interprofessional team in providing palliative care. Topics include: \n\nThe pharmacist’s role in a palliative care team\nPrinciples of pain management\nUse of opioids in palliative care\nSymptom management\nDeprescribing\nDrug-related adverse effects\nCancer-associated thrombosis\n\nREGISTER
URL:https://www.bc-cpc.ca/event/palliative-care-pharmacy/
LOCATION:online
CATEGORIES:Education, Evaluation, Quality Improvement, and Research,Palliative Care,Palliative Domain,Serious Illness Conversation
END:VEVENT
BEGIN:VEVENT
DTSTART;TZID=America/Vancouver:20240108T173000
DTEND;TZID=America/Vancouver:20240108T193000
DTSTAMP:20260422T184228
CREATED:20240102T233155Z
LAST-MODIFIED:20240125T214159Z
UID:31576-1704735000-1704742200@www.bc-cpc.ca
SUMMARY:Grief Chats Q&A
DESCRIPTION:Join grief specialists Maxxine Rattner (MSW\, RSW) and Marney Thompson (MA\, RCC) for the first Grief Chats Q&A – a monthly webinar where they will respond to your questions about loss and grief. \nClick to Register
URL:https://www.bc-cpc.ca/event/grief-chats-qa/
LOCATION:online
CATEGORIES:Grief & Bereavement,Loss, Grief, & Bereavement,Serious Illness Conversation,Webinar
END:VEVENT
BEGIN:VEVENT
DTSTART;VALUE=DATE:20230613
DTEND;VALUE=DATE:20230615
DTSTAMP:20260422T184228
CREATED:20230321T142453Z
LAST-MODIFIED:20230503T201945Z
UID:28428-1686614400-1686787199@www.bc-cpc.ca
SUMMARY:Serious Illness Care Program Summit 2023: Driving Equity in Serious Illness Communication and Care
DESCRIPTION:Join Ariadne Lab’s Serious Illness Care Program for our inaugural virtual summit to learn more about advancing equity and access to high quality serious illness communication and care. Participants will gain strategies and tools for improving clinical culture and connect with a community of serious illness care practitioners. \nClick to Register
URL:https://www.bc-cpc.ca/event/serious-illness-care-program-summit-2023-driving-equity-in-serious-illness-communication-and-care/
LOCATION:online
CATEGORIES:Serious Illness Conversation
END:VEVENT
BEGIN:VEVENT
DTSTART;VALUE=DATE:20221014
DTEND;VALUE=DATE:20221015
DTSTAMP:20260422T184228
CREATED:20221003T164813Z
LAST-MODIFIED:20221003T164813Z
UID:24965-1665705600-1665791999@www.bc-cpc.ca
SUMMARY:Palliative Pharmacy Care Course
DESCRIPTION:Pharmacists are integral members of the multi-disciplinary team delivering palliative care to those facing life-threatening illness\, including at the end of life. As more patients wish to remain at home for the end of life\, pharmacists are increasingly called upon to contribute expertise in palliative care pharmacy outside of institutional settings. \nThis course\, specially designed for pharmacists who work with palliative care patients\, their families\, health and community care nurses\, and general practitioners\, is developed in partnership between Victoria Hospice and Continuing Studies at the University of Victoria. \nClick here to learn more and register.
URL:https://www.bc-cpc.ca/event/palliative-pharmacy-care-course/
LOCATION:online
CATEGORIES:Palliative Care,Palliative Domain
END:VEVENT
BEGIN:VEVENT
DTSTART;TZID=America/Vancouver:20210625T100000
DTEND;TZID=America/Vancouver:20210625T120000
DTSTAMP:20260422T184228
CREATED:20210614T161539Z
LAST-MODIFIED:20210614T161539Z
UID:17191-1624615200-1624622400@www.bc-cpc.ca
SUMMARY:ACP Information Session 2 ( Williams Lake Hospice)
DESCRIPTION:[vc_row][vc_column][vc_column_text]Williams Lake Hospice Society \nACP Information Session 2 \nJune 25 \n10:00am-12:00pm \nFor more information or to register contact: Cindy \nCall: 250-398-0119 \nEmail: osc.hospice@yahoo.ca[/vc_column_text][/vc_column][/vc_row][vc_row][vc_column][vc_single_image image=”17184″ img_size=”large”][/vc_column][/vc_row]
URL:https://www.bc-cpc.ca/event/acp-information-session-2-williams-lake-hospice/
LOCATION:online
CATEGORIES:Conversation Events and Information Sessions
END:VEVENT
BEGIN:VEVENT
DTSTART;TZID=America/Vancouver:20210624T100000
DTEND;TZID=America/Vancouver:20210624T120000
DTSTAMP:20260422T184228
CREATED:20210614T161138Z
LAST-MODIFIED:20210614T161138Z
UID:17188-1624528800-1624536000@www.bc-cpc.ca
SUMMARY:ACP Information Session 1 ( Williams Lake Hospice)
DESCRIPTION:[vc_row][vc_column][vc_column_text]Williams Lake Hospice \nACP Information Session 1  \nJune 24 \n10:00am-12:00pm \nFor more information or to register contact: Cindy \nCall: 250-398-0119 \nEmail: 0sc.hospice@yahoo.ca[/vc_column_text][/vc_column][/vc_row][vc_row][vc_column][vc_single_image image=”17184″ img_size=”large”][/vc_column][/vc_row]
URL:https://www.bc-cpc.ca/event/acp-information-session-1-williams-lake-hospice/
LOCATION:online
CATEGORIES:Conversation Events and Information Sessions
END:VEVENT
BEGIN:VEVENT
DTSTART;TZID=America/Vancouver:20210622T100000
DTEND;TZID=America/Vancouver:20210622T120000
DTSTAMP:20260422T184228
CREATED:20210614T160300Z
LAST-MODIFIED:20210614T161229Z
UID:17186-1624356000-1624363200@www.bc-cpc.ca
SUMMARY:Conversation Event (Williams Lake Hospice Society)
DESCRIPTION:[vc_row][vc_column][vc_column_text]Williams Lake Hospice Society \nConversation Event \nJune 22 \n10:00am-12:00pm \nFor more information or to register contact: Cindy \nCall: 250-398-0119 \nEmail: osc.hospice@yahoo.ca[/vc_column_text][/vc_column][/vc_row][vc_row][vc_column][vc_single_image image=”17184″ img_size=”large”][/vc_column][/vc_row]
URL:https://www.bc-cpc.ca/event/conversation-event-williams-lake-hospice-society/
LOCATION:online
CATEGORIES:Conversation Events and Information Sessions
END:VEVENT
BEGIN:VEVENT
DTSTART;TZID=America/Vancouver:20210617T130000
DTEND;TZID=America/Vancouver:20210617T143000
DTSTAMP:20260422T184228
CREATED:20210416T005310Z
LAST-MODIFIED:20210416T005658Z
UID:16592-1623934800-1623940200@www.bc-cpc.ca
SUMMARY:Information Session Part 2 (Ridge Meadows Seniors Society)
DESCRIPTION:[vc_row][vc_column][vc_column_text]Register by May 10\, 2021 \nCall: (604) 380-0516\nEmail: raman@rmssseniors.org \n(in-person)[/vc_column_text][vc_single_image image=”16590″ img_size=”large”][/vc_column][/vc_row]
URL:https://www.bc-cpc.ca/event/information-session-part-2-ridge-meadows-seniors-society-2/
LOCATION:in-person
CATEGORIES:Conversation Events and Information Sessions
END:VEVENT
BEGIN:VEVENT
DTSTART;TZID=America/Vancouver:20210614T103000
DTEND;TZID=America/Vancouver:20210614T120000
DTSTAMP:20260422T184228
CREATED:20210416T003209Z
LAST-MODIFIED:20210416T010116Z
UID:16569-1623666600-1623672000@www.bc-cpc.ca
SUMMARY:Information Session Part 2 (Adult Cognitive Wellness Centre)
DESCRIPTION:[vc_row][vc_column][vc_column_text]To register\nCall: (604) 655-0535\nEmail: info@CognitiveWellness.ca \n(online)[/vc_column_text][vc_single_image image=”16567″ img_size=”large”][/vc_column][/vc_row]
URL:https://www.bc-cpc.ca/event/information-session-part-2-adult-cognitive-wellness-centre-2/
LOCATION:online
CATEGORIES:Conversation Events and Information Sessions
END:VEVENT
BEGIN:VEVENT
DTSTART;TZID=America/Vancouver:20210614T100000
DTEND;TZID=America/Vancouver:20210614T113000
DTSTAMP:20260422T184228
CREATED:20210518T182957Z
LAST-MODIFIED:20210518T182957Z
UID:16973-1623664800-1623670200@www.bc-cpc.ca
SUMMARY:Information Session Part 2 (CareRx Vancouver Downtown Pharmacy)
DESCRIPTION:[vc_row][vc_column][vc_column_text]June 14th \n10:00am-11:30am \n(Online -Microsoft Teams) \nPlease register by June 2nd \nCall: 604-679-1289 \nemail: carerx.vancouver@carerx.ca[/vc_column_text][/vc_column][/vc_row][vc_row][vc_column][vc_single_image image=”16966″ img_size=”large”][/vc_column][/vc_row]
URL:https://www.bc-cpc.ca/event/information-session-part-2-carerx-vancouver-downtown-pharmacy/
LOCATION:online
CATEGORIES:Conversation Events and Information Sessions
END:VEVENT
BEGIN:VEVENT
DTSTART;TZID=America/Vancouver:20210611T100000
DTEND;TZID=America/Vancouver:20210611T113000
DTSTAMP:20260422T184228
CREATED:20210510T195017Z
LAST-MODIFIED:20210510T195017Z
UID:16934-1623405600-1623411000@www.bc-cpc.ca
SUMMARY:Conversation Event (Abbotsford Association for Healthy Aging)
DESCRIPTION:[vc_row][vc_column][vc_column_text]Conversation Event \nJune 11th \n10am-11:30am \nOnline or by phone \nPlease register by June 4th \nCall: 604-854-1733 \nemail: healthyagingabbotsford@gmail.com[/vc_column_text][/vc_column][/vc_row][vc_row][vc_column][vc_single_image image=”16929″ img_size=”large”][/vc_column][/vc_row]
URL:https://www.bc-cpc.ca/event/conversation-event-abbotsford-association-for-healthy-aging/
LOCATION:online
CATEGORIES:Conversation Events and Information Sessions
END:VEVENT
BEGIN:VEVENT
DTSTART;TZID=America/Vancouver:20210610T130000
DTEND;TZID=America/Vancouver:20210610T143000
DTSTAMP:20260422T184228
CREATED:20210416T005200Z
LAST-MODIFIED:20210416T010133Z
UID:16589-1623330000-1623335400@www.bc-cpc.ca
SUMMARY:Information Session Part 1 (Ridge Meadows Seniors Society)
DESCRIPTION:[vc_row][vc_column][vc_column_text]Register by May 10\, 2021 \nCall: (604) 380-0516\nEmail: raman@rmssseniors.org \n(in-person)[/vc_column_text][vc_single_image image=”16590″ img_size=”large”][/vc_column][/vc_row]
URL:https://www.bc-cpc.ca/event/information-session-part-1-ridge-meadows-seniors-society-2/
LOCATION:in-person
CATEGORIES:Conversation Events and Information Sessions
END:VEVENT
BEGIN:VEVENT
DTSTART;TZID=America/Vancouver:20210607T103000
DTEND;TZID=America/Vancouver:20210607T120000
DTSTAMP:20260422T184228
CREATED:20210416T003050Z
LAST-MODIFIED:20210416T010145Z
UID:16566-1623061800-1623067200@www.bc-cpc.ca
SUMMARY:Information Session Part 1 (Adult Cognitive Wellness Centre)
DESCRIPTION:[vc_row][vc_column][vc_column_text]To register\nCall: (604) 655-0535\nEmail: info@CognitiveWellness.ca \n(online)[/vc_column_text][vc_single_image image=”16567″ img_size=”large”][/vc_column][/vc_row]
URL:https://www.bc-cpc.ca/event/information-session-part-1-adult-cognitive-wellness-centre-2/
LOCATION:online
CATEGORIES:Conversation Events and Information Sessions
END:VEVENT
END:VCALENDAR