BEGIN:VCALENDAR
VERSION:2.0
PRODID:-//BC Centre for Palliative Care - ECPv6.15.15//NONSGML v1.0//EN
CALSCALE:GREGORIAN
METHOD:PUBLISH
X-WR-CALNAME:BC Centre for Palliative Care
X-ORIGINAL-URL:https://www.bc-cpc.ca
X-WR-CALDESC:Events for BC Centre for Palliative Care
REFRESH-INTERVAL;VALUE=DURATION:PT1H
X-Robots-Tag:noindex
X-PUBLISHED-TTL:PT1H
BEGIN:VTIMEZONE
TZID:America/Vancouver
BEGIN:DAYLIGHT
TZOFFSETFROM:-0800
TZOFFSETTO:-0700
TZNAME:PDT
DTSTART:20230312T100000
END:DAYLIGHT
BEGIN:STANDARD
TZOFFSETFROM:-0700
TZOFFSETTO:-0800
TZNAME:PST
DTSTART:20231105T090000
END:STANDARD
BEGIN:DAYLIGHT
TZOFFSETFROM:-0800
TZOFFSETTO:-0700
TZNAME:PDT
DTSTART:20240310T100000
END:DAYLIGHT
BEGIN:STANDARD
TZOFFSETFROM:-0700
TZOFFSETTO:-0800
TZNAME:PST
DTSTART:20241103T090000
END:STANDARD
BEGIN:DAYLIGHT
TZOFFSETFROM:-0800
TZOFFSETTO:-0700
TZNAME:PDT
DTSTART:20250309T100000
END:DAYLIGHT
BEGIN:STANDARD
TZOFFSETFROM:-0700
TZOFFSETTO:-0800
TZNAME:PST
DTSTART:20251102T090000
END:STANDARD
END:VTIMEZONE
BEGIN:VEVENT
DTSTART;VALUE=DATE:20241015
DTEND;VALUE=DATE:20241019
DTSTAMP:20260424T191208
CREATED:20230707T002624Z
LAST-MODIFIED:20230710T221137Z
UID:29577-1728950400-1729295999@www.bc-cpc.ca
SUMMARY:McGill International Palliative Care Congress
DESCRIPTION:After a successful return in 2022\, the McGill International Palliative Care Congress will be held at the Palais des Congrès de Montréal\, from October 15-18\, 2024. \nThis major gathering of healthcare professionals and palliative care specialists from around the world has been hosted in Montréal every second year since 1976. The McGill International Congress offers a unique conference experience: galvanizing plenary speakers; in-depth experiential workshops; seminars covering all aspects of end-of-life care\, from the most current scientific developments in pain and symptom control to the large existential questions. All sessions are structured to allow ample time for dialogue\, questions and thoughtful interaction. As always\, the Congress will offer a welcoming\, inclusive environment where the clinical sciences are intertwined with the humanities\, the arts\, and compassion. \nRegister and find out more by visiting: www.mipcc.ca/ \n 
URL:https://www.bc-cpc.ca/event/mcgill-international-palliative-care-congress-2/
LOCATION:Palais des Congrès de Montréal\, 1001 Pl. Jean-Paul-Riopelle\, Montreal\, QB\, Canada
CATEGORIES:Conference,Palliative Care
END:VEVENT
END:VCALENDAR