BEGIN:VCALENDAR
VERSION:2.0
PRODID:-//BC Centre for Palliative Care - ECPv6.15.15//NONSGML v1.0//EN
CALSCALE:GREGORIAN
METHOD:PUBLISH
X-WR-CALNAME:BC Centre for Palliative Care
X-ORIGINAL-URL:https://www.bc-cpc.ca
X-WR-CALDESC:Events for BC Centre for Palliative Care
REFRESH-INTERVAL;VALUE=DURATION:PT1H
X-Robots-Tag:noindex
X-PUBLISHED-TTL:PT1H
BEGIN:VTIMEZONE
TZID:America/Vancouver
BEGIN:DAYLIGHT
TZOFFSETFROM:-0800
TZOFFSETTO:-0700
TZNAME:PDT
DTSTART:20230312T100000
END:DAYLIGHT
BEGIN:STANDARD
TZOFFSETFROM:-0700
TZOFFSETTO:-0800
TZNAME:PST
DTSTART:20231105T090000
END:STANDARD
BEGIN:DAYLIGHT
TZOFFSETFROM:-0800
TZOFFSETTO:-0700
TZNAME:PDT
DTSTART:20240310T100000
END:DAYLIGHT
BEGIN:STANDARD
TZOFFSETFROM:-0700
TZOFFSETTO:-0800
TZNAME:PST
DTSTART:20241103T090000
END:STANDARD
BEGIN:DAYLIGHT
TZOFFSETFROM:-0800
TZOFFSETTO:-0700
TZNAME:PDT
DTSTART:20250309T100000
END:DAYLIGHT
BEGIN:STANDARD
TZOFFSETFROM:-0700
TZOFFSETTO:-0800
TZNAME:PST
DTSTART:20251102T090000
END:STANDARD
END:VTIMEZONE
BEGIN:VEVENT
DTSTART;TZID=America/Vancouver:20240109T120000
DTEND;TZID=America/Vancouver:20240109T130000
DTSTAMP:20260425T115228
CREATED:20230908T183017Z
LAST-MODIFIED:20230908T183017Z
UID:30323-1704801600-1704805200@www.bc-cpc.ca
SUMMARY:Journal Club (The Division of Palliative Care UBC 2023/2024 Educational Rounds)
DESCRIPTION:Journal Club with Dr. Emily Nguyen (details TBA) \nThe Division of Palliative is excited to present the 2023/2024 Educational Rounds schedule. Dr. Matthieu Hubert is the Educational Rounds Lead and reviews feedback from each rounds to develop and book in speakers and topics for upcoming sessions. \nTo sign up for Educational Rounds meetings\, access slides or recordings\, or to reach out with an idea for a topic or speaker\, please view their website for further information: \n2023/2024 Educational Rounds Schedule
URL:https://www.bc-cpc.ca/event/journal-club-the-division-of-palliative-care-ubc-2023-2024-educational-rounds-3/
CATEGORIES:Palliative Care
END:VEVENT
BEGIN:VEVENT
DTSTART;TZID=America/Vancouver:20240116T120000
DTEND;TZID=America/Vancouver:20240116T130000
DTSTAMP:20260425T115228
CREATED:20230908T183206Z
LAST-MODIFIED:20230908T183206Z
UID:30326-1705406400-1705410000@www.bc-cpc.ca
SUMMARY:Case Rounds (The Division of Palliative Care UBC 2023/2024 Educational Rounds)
DESCRIPTION:Case Rounds: details TBA \nThe Division of Palliative is excited to present the 2023/2024 Educational Rounds schedule. Dr. Matthieu Hubert is the Educational Rounds Lead and reviews feedback from each rounds to develop and book in speakers and topics for upcoming sessions. \nTo sign up for Educational Rounds meetings\, access slides or recordings\, or to reach out with an idea for a topic or speaker\, please view their website for further information: \n2023/2024 Educational Rounds Schedule
URL:https://www.bc-cpc.ca/event/case-rounds-the-division-of-palliative-care-ubc-2023-2024-educational-rounds/
CATEGORIES:Palliative Care
END:VEVENT
END:VCALENDAR