BEGIN:VCALENDAR
VERSION:2.0
PRODID:-//BC Centre for Palliative Care - ECPv6.15.15//NONSGML v1.0//EN
CALSCALE:GREGORIAN
METHOD:PUBLISH
X-ORIGINAL-URL:https://www.bc-cpc.ca
X-WR-CALDESC:Events for BC Centre for Palliative Care
REFRESH-INTERVAL;VALUE=DURATION:PT1H
X-Robots-Tag:noindex
X-PUBLISHED-TTL:PT1H
BEGIN:VTIMEZONE
TZID:America/Vancouver
BEGIN:DAYLIGHT
TZOFFSETFROM:-0800
TZOFFSETTO:-0700
TZNAME:PDT
DTSTART:20190310T100000
END:DAYLIGHT
BEGIN:STANDARD
TZOFFSETFROM:-0700
TZOFFSETTO:-0800
TZNAME:PST
DTSTART:20191103T090000
END:STANDARD
BEGIN:DAYLIGHT
TZOFFSETFROM:-0800
TZOFFSETTO:-0700
TZNAME:PDT
DTSTART:20200308T100000
END:DAYLIGHT
BEGIN:STANDARD
TZOFFSETFROM:-0700
TZOFFSETTO:-0800
TZNAME:PST
DTSTART:20201101T090000
END:STANDARD
BEGIN:DAYLIGHT
TZOFFSETFROM:-0800
TZOFFSETTO:-0700
TZNAME:PDT
DTSTART:20210314T100000
END:DAYLIGHT
BEGIN:STANDARD
TZOFFSETFROM:-0700
TZOFFSETTO:-0800
TZNAME:PST
DTSTART:20211107T090000
END:STANDARD
BEGIN:DAYLIGHT
TZOFFSETFROM:-0800
TZOFFSETTO:-0700
TZNAME:PDT
DTSTART:20220313T100000
END:DAYLIGHT
BEGIN:STANDARD
TZOFFSETFROM:-0700
TZOFFSETTO:-0800
TZNAME:PST
DTSTART:20221106T090000
END:STANDARD
BEGIN:DAYLIGHT
TZOFFSETFROM:-0800
TZOFFSETTO:-0700
TZNAME:PDT
DTSTART:20230312T100000
END:DAYLIGHT
BEGIN:STANDARD
TZOFFSETFROM:-0700
TZOFFSETTO:-0800
TZNAME:PST
DTSTART:20231105T090000
END:STANDARD
BEGIN:DAYLIGHT
TZOFFSETFROM:-0800
TZOFFSETTO:-0700
TZNAME:PDT
DTSTART:20240310T100000
END:DAYLIGHT
BEGIN:STANDARD
TZOFFSETFROM:-0700
TZOFFSETTO:-0800
TZNAME:PST
DTSTART:20241103T090000
END:STANDARD
BEGIN:DAYLIGHT
TZOFFSETFROM:-0800
TZOFFSETTO:-0700
TZNAME:PDT
DTSTART:20250309T100000
END:DAYLIGHT
BEGIN:STANDARD
TZOFFSETFROM:-0700
TZOFFSETTO:-0800
TZNAME:PST
DTSTART:20251102T090000
END:STANDARD
BEGIN:DAYLIGHT
TZOFFSETFROM:-0800
TZOFFSETTO:-0700
TZNAME:PDT
DTSTART:20260308T100000
END:DAYLIGHT
BEGIN:STANDARD
TZOFFSETFROM:-0700
TZOFFSETTO:-0800
TZNAME:PST
DTSTART:20261101T090000
END:STANDARD
END:VTIMEZONE
BEGIN:VEVENT
DTSTART;TZID=America/Vancouver:20250306T120000
DTEND;TZID=America/Vancouver:20250306T130000
DTSTAMP:20260422T111034
CREATED:20250206T180323Z
LAST-MODIFIED:20251014T230009Z
UID:34092-1741262400-1741266000@www.bc-cpc.ca
SUMMARY:Unlocking Dignity: How to Improve the Reintegration Experience of Justice-involved People with Life-limiting Illnesses into Community
DESCRIPTION:Session resources\n\nSession summary notes\nPresentation recording: YouTube\n\nReintegrating into the community after incarceration is a complex process that requires a coordinated\, inter-agency and interdisciplinary approach. For justice-involved individuals facing serious or life-limiting illnesses\, access to patient-centred palliative care is essential—not only for symptom management but also for ensuring dignity\, continuity of care\, and social support. This session will create a space to share how this is currently being done in our communities\, identify existing gaps and challenges\, and discuss innovative strategies to enhance access to care. Through shared experiential knowledge and collaboration\, we will envision pathways that ensure justice-involved individuals receive the right care\, in the right place\, at the right time. \nPresenters: \n\nIridian Grenada\, Advisory Consultant\, Justice Reintegration\nMar’yana Fisher\, RN\, PhD(c) Palliative Nurse Clinician\n\nThe intended audience for this session is healthcare providers and community organizations.
URL:https://www.bc-cpc.ca/event/unlocking-dignity/
LOCATION:online
CATEGORIES:Echo,justice-involved community & palliative care
ORGANIZER;CN="BC Centre for Palliative Care-ECHO":MAILTO:echo@bc-cpc.ca
END:VEVENT
BEGIN:VEVENT
DTSTART;TZID=America/Vancouver:20250227T120000
DTEND;TZID=America/Vancouver:20250227T130000
DTSTAMP:20260422T111034
CREATED:20241211T232121Z
LAST-MODIFIED:20251001T225338Z
UID:33862-1740657600-1740661200@www.bc-cpc.ca
SUMMARY:Understanding Grief in Canada: A Canadian Grief Alliance Perspective
DESCRIPTION:Session Resources:\n\nsession summary notes\nSession recording: YouTube\nCanadian Grief Alliance webpage\n\n  \n\nPart of our Grief & Bereavement Literacy ECHO Series \nPlease join Paul and Marney for this ECHO session where they will share insights and updates from the Canadian Grief Alliance (CGA). Learn about the CGA national grief survey and professional consultation results and the needs that were identified through these projects. Also\, hear about the CGA Grief Chats and the questions and concerns voiced by grieving Canadians. Poster you can print and share linked here. \nPresenter: Marney Thompson\, Director of Bereavement Services\, Victoria Hospice Society \nPaul Adams\, Co-chair\, Canadian Grief Alliance \n\n  \nThis series is for anyone interested in increasing their knowledge around grief and bereavement to support them personally or in their professional careers.
URL:https://www.bc-cpc.ca/event/understanding-grief-in-canada-a-canadian-grief-alliance-perspective/
LOCATION:online
CATEGORIES:Echo,Grief & Bereavement Literacy ECHO series
ORGANIZER;CN="BC Centre for Palliative Care-ECHO":MAILTO:echo@bc-cpc.ca
END:VEVENT
BEGIN:VEVENT
DTSTART;TZID=America/Vancouver:20250212T120000
DTEND;TZID=America/Vancouver:20250212T130000
DTSTAMP:20260422T111034
CREATED:20241211T231728Z
LAST-MODIFIED:20251001T183950Z
UID:33863-1739361600-1739365200@www.bc-cpc.ca
SUMMARY:Reimagining a Hospice Model of Care
DESCRIPTION:Session Resources\n\nYouTube session recording link \nSession summary notes\n\nPart of the All Together ECHO Series \nThis series is a compassionate communities initiative\, open to health care providers\, volunteers\, volunteer lead organizations\, community groups\, and individuals looking to be inspired by and learn from others developing compassionate communities. \nSession description: Shifting landscapes in healthcare necessitate shifts in how we think about service delivery. Following the presentation of experiences of moving from a traditional facility-based hospice model to a community services-based model to meet the needs of the community and increase access to services\, participants will have opportunity to engage and reflect with learnings. \nPresenters: \n\nKara Lyons-Dietz\, Community Health Services and Hospice Manager\, Island Health\nKatie Hennessy\, Clinical Nurse Specialist\, Palliative & End of Life Care\, Island Health
URL:https://www.bc-cpc.ca/event/reimagining-a-hospice-model-of-care/
CATEGORIES:All Together,Echo
ORGANIZER;CN="BC Centre for Palliative Care-ECHO":MAILTO:echo@bc-cpc.ca
END:VEVENT
BEGIN:VEVENT
DTSTART;TZID=America/Vancouver:20250205T120000
DTEND;TZID=America/Vancouver:20250205T130000
DTSTAMP:20260422T111034
CREATED:20241211T204740Z
LAST-MODIFIED:20251001T183924Z
UID:33843-1738756800-1738760400@www.bc-cpc.ca
SUMMARY:The Power of Social Connection: Explore the Evidence-based Impact of Friendly Calls on People\, Communities\, and the Healthcare System
DESCRIPTION:Session Resources\n\nPresentation recording: YouTube\n Session presentation summary notes\n\nThis session is open to anyone wanting to learn about a nationally accessible social prescription\, Red Cross Friendly Calls program \nWhat if we told you\, that a meaningful connection was just a phone call away? Join us to learn how the Canadian Red Cross is addressing the devastating impacts of social isolation and loneliness through the Friendly Calls program and how this supports your work within palliative care. A nationally accessible social prescription\, Friendly Calls impacts personal wellbeing for patients\, caregivers\, and volunteers alike; strengthens resilience and capacity within communities; and alleviates pressure on the health care system. \nPresenters: \n\nAsha Croggon\, Director of Friendly Calls program\, Canadian Red Cross\nDoris Sun\, BCY Friendly Calls Coordinator\nMichelle Rajani\, BCY Friendly Calls Coordinator\n\n 
URL:https://www.bc-cpc.ca/event/the-power-of-social-connection-explore-the-evidence-based-impact-of-friendly-calls-on-people-communities-and-the-healthcare-system/
LOCATION:online
CATEGORIES:Echo,Red Cross Friendly Calls
ORGANIZER;CN="BC Centre for Palliative Care-ECHO":MAILTO:echo@bc-cpc.ca
END:VEVENT
BEGIN:VEVENT
DTSTART;TZID=America/Vancouver:20240125T120000
DTEND;TZID=America/Vancouver:20240125T130000
DTSTAMP:20260422T111034
CREATED:20240118T003854Z
LAST-MODIFIED:20240118T003854Z
UID:31660-1706184000-1706187600@www.bc-cpc.ca
SUMMARY:Basic ECHO sessions- “All teach\, all learn”
DESCRIPTION:Topic: Dyspnea\nThe Northern Health Palliative Care Consultation Team is pleased to offer education using the Project ECHO Model™ via Zoom. \nECHO provides an opportunity for clinicians from all areas to connect and participate in case-based education with peers and palliative care experts. \nThe ECHO Model:\no Each session begins with introductions and a 15-20 minute didactic presentation.\no The remainder of the session will be spent discussing a case presentation\, allowing for participant questions and discussion.\no Extra time can be used for any additional questions or discussion with the Palliative Care Consultation Team. \nYou will need a device that allows Zoom\, a microphone\, and a camera. You may need to request IT install Zoom on your device. \nTo register\, please email: Palliative.Care.Consult.Team@northernhealth.ca \n 
URL:https://www.bc-cpc.ca/event/basic-echo-sessions-all-teach-all-learn/
LOCATION:online
CATEGORIES:Echo,Webinar
END:VEVENT
BEGIN:VEVENT
DTSTART;TZID=America/Vancouver:20211109T120000
DTEND;TZID=America/Vancouver:20211109T133000
DTSTAMP:20260422T111034
CREATED:20211103T083121Z
LAST-MODIFIED:20220708T213727Z
UID:19633-1636459200-1636464600@www.bc-cpc.ca
SUMMARY:Palliative Care ECHO Series
DESCRIPTION:PC ECHO Series 2021
URL:https://www.bc-cpc.ca/event/palliative-care-echo-series/
LOCATION:online
CATEGORIES:Echo,Palliative Care
END:VEVENT
BEGIN:VEVENT
DTSTART;TZID=America/Vancouver:20211109T120000
DTEND;TZID=America/Vancouver:20211109T133000
DTSTAMP:20260422T111034
CREATED:20211103T083121Z
LAST-MODIFIED:20220708T213727Z
UID:19633-1636459200-1636464600@www.bc-cpc.ca
SUMMARY:Palliative Care ECHO Series
DESCRIPTION:PC ECHO Series 2021
URL:https://www.bc-cpc.ca/event/palliative-care-echo-series/
LOCATION:online
CATEGORIES:Echo,Palliative Care
END:VEVENT
BEGIN:VEVENT
DTSTART;TZID=America/Vancouver:20211109T120000
DTEND;TZID=America/Vancouver:20211109T133000
DTSTAMP:20260422T111034
CREATED:20211103T083121Z
LAST-MODIFIED:20220708T213727Z
UID:19633-1636459200-1636464600@www.bc-cpc.ca
SUMMARY:Palliative Care ECHO Series
DESCRIPTION:PC ECHO Series 2021
URL:https://www.bc-cpc.ca/event/palliative-care-echo-series/
LOCATION:online
CATEGORIES:Echo,Palliative Care
END:VEVENT
BEGIN:VEVENT
DTSTART;TZID=America/Vancouver:20211102T140000
DTEND;TZID=America/Vancouver:20211102T150000
DTSTAMP:20260422T111034
CREATED:20211207T224528Z
LAST-MODIFIED:20211207T224528Z
UID:20277-1635861600-1635865200@www.bc-cpc.ca
SUMMARY:The Pandemic Made Me Do It - Moving from "death by PowerPoint" to engaging e-learning
DESCRIPTION:Dates:\nTuesday\, November 2nd\, 2021  \nFocus:\nThroughout the pandemic\, educators have had to scramble to modify in-person sessions to online. Most of the time\, the best we could do was PowerPoint over Zoom. The downside was that learners could have the camera off and could be snoozing\, not even in the room\, or even walking the dog. On the upside\, those living in rural and remote areas or those who don’t have time to leave their desk have had more\, and more accessible\, education opportunities. How to keep the good and lose the bad?
URL:https://www.bc-cpc.ca/event/the-pandemic-made-me-do-it-moving-from-death-by-powerpoint-to-engaging-e-learning/
LOCATION:online
CATEGORIES:The Pandemic Made Me Do It
ORGANIZER;CN="BC Centre for Palliative Care":MAILTO:office@bc-cpc.ca
END:VEVENT
BEGIN:VEVENT
DTSTART;TZID=America/Vancouver:20210624T000000
DTEND;TZID=America/Vancouver:20210624T000000
DTSTAMP:20260422T111034
CREATED:20211019T192639Z
LAST-MODIFIED:20230217T164345Z
UID:18112-1624492800-1624492800@www.bc-cpc.ca
SUMMARY:Session 9 Topic – Indigenous Health & Well-Being in a Palliative Care Context Part 2    
DESCRIPTION:[vc_row][vc_column][vc_column_text] \nPresenter – First Nations Elder Bruce Robinson\, Lexi Fisher\, BSW\, RSW\, and Leah Walker\, BSW\, RSW\, all with Kilala Lelum\nCompetencies –\n\nDomain 2 – Cultural safety & humility. Advocates for incorporation of the person’s and family’s cultural traditions\, beliefs\, expectations\, and preferences into decision making\, care planning\, and service delivery models.\nFacilitates expression and inclusion of the person’s and family’s values\, beliefs\, and wishes during declining health and bereavement. Advocates for changes in policy to facilitate incorporation of culture into care.\nDomain 3 – Communication. Provides support\, mediation\, and advocacy in exploring and clarifying treatment goals and care planning.\nDomain 4 – Comfort & quality of life. Adapts care to address persons fears and anxieties related to past trauma.\nUnderstands\, educates\, and works with the person/family and inter-professional team about the interplay of spiritual\, emotional\, social\, cognitive\, and physical aspects of the person’s past experiences on their current quality of life.\nDescribe strategies for persons in a helping role to assist them in reconciling working within a healthcare system that has and continues to do significant harm to Indigenous peoples and their way of being\nDescribe strategies and approaches people can use in their clinical practice to recognize and acknowledge both the devastating experiences of indigenous peoples both within and outside the healthcare system and the impact of these experiences on their decision-making around access to and receiving end of life care\nDescribe strategies and approaches people can use in their clinical practice to honour and value the stories of Indigenous peoples in a respectful way that builds trusting relationships and allyship\, fosters connections\, and allows Indigenous voices to be heard at all stages of life\n\n[/vc_column_text][/vc_column][/vc_row]
URL:https://www.bc-cpc.ca/event/session-9-topic-indigenous-health-well-being-in-a-palliative-care-context-part-2/
CATEGORIES:Echo,ECHO Psychosocial Series Cohort 2
END:VEVENT
BEGIN:VEVENT
DTSTART;TZID=America/Vancouver:20210429T000000
DTEND;TZID=America/Vancouver:20210429T000000
DTSTAMP:20260422T111034
CREATED:20211019T192817Z
LAST-MODIFIED:20230217T164643Z
UID:18109-1619654400-1619654400@www.bc-cpc.ca
SUMMARY:Session 7  Topic – Indigenous Health & Well-Being in a Palliative Care Context    
DESCRIPTION:[vc_row][vc_column][vc_column_text] \nPresenter – First Nations Elder Bruce Robinson\, Lexi Fisher\, BSW\, RSW\, and Leah Walker\, BSW\, RSW\, all with Kilala Lelum\nCompetencies –\n\nDomain 2 – Cultural safety & humility. Advocates for incorporation of the person’s and family’s cultural traditions\, beliefs\, expectations\, and preferences into decision making\, care planning\, and service delivery models.\nFacilitates expression and inclusion of the person’s and family’s values\, beliefs\, and wishes during declining health and bereavement.\nAdvocates for changes in policy to facilitate incorporation of culture into care.\nDomain 3 – Communication. Provides support\, mediation\, and advocacy in exploring and clarifying treatment goals and care planning.\nDomain 4 – Comfort & quality of life. Adapts care to address persons fears and anxieties related to past trauma.\nUnderstands\, educates\, and works with the person/family and inter-professional team about the interplay of spiritual\, emotional\, social\, cognitive\, and physical aspects of the person’s past experiences on their current quality of life.\nDomain 7 – Professional & ethical practice. Advocates at a system and community level\nDescribe strategies and approaches people can use in their clinical practice to honour and value the stories of Indigenous peoples in a respectful way that builds trusting relationship and allyship\, fosters connections\, and allows Indigenous voices to be heard at all stages of life\n\n[/vc_column_text][/vc_column][/vc_row]
URL:https://www.bc-cpc.ca/event/session-7-topic-indigenous-health-well-being-in-a-palliative-care-context/
CATEGORIES:Echo,ECHO Psychosocial Series Cohort 2
END:VEVENT
BEGIN:VEVENT
DTSTART;TZID=America/Vancouver:20210325T000000
DTEND;TZID=America/Vancouver:20210325T000000
DTSTAMP:20260422T111034
CREATED:20211019T192902Z
LAST-MODIFIED:20230217T164649Z
UID:18108-1616630400-1616630400@www.bc-cpc.ca
SUMMARY:Session 6 Topic – Prolonged Grief Disorder 
DESCRIPTION:[vc_row][vc_column][vc_column_text] \nPresenter – Marney Thompson\, RCC\, MA\, Director of Psychosocial Services\, Victoria Hospice\nCompetencies –\n\nDomain 1 – Principles of PC & palliative approach. Utilizes a holistic approach to care with awareness of how illness\, death and bereavement impacts all aspects of person’s and family’s functioning.\nDomain 3 – Communication. Provides the person and family/caregiver bereavement counselling and psychosocial education through evidence-based frameworks\, if within role and expertise.\nDomain 6: Loss\, grief\, & bereavement. Expert consultant regarding loss\, grief\, and bereavement. Assesses complex grief reactions and situations\, such as multiple loss\, traumatic loss\, and pre-existing vulnerabilities including mental illness and addiction\, abuse\, and neglect.\nDomain 8 – Self care. Understands and attends to the impact of death\, dying and bereavement on caregivers (self\, family\, team\, professionals).\nIdentify and define Prolonged Grief and distinguish it from ‘normal’ grief\nUnderstand and describe the prevalence and psychosocial correlates of Prolonged Grief\nDiscuss and describe the theoretical orientations and basic interventions used in Complicated Grief Treatment (CGT)\n\n[/vc_column_text][/vc_column][/vc_row]
URL:https://www.bc-cpc.ca/event/session-6-topic-prolonged-grief-disorder/
CATEGORIES:Echo,ECHO Psychosocial Series Cohort 2
END:VEVENT
BEGIN:VEVENT
DTSTART;TZID=America/Vancouver:20210128T000000
DTEND;TZID=America/Vancouver:20210128T000000
DTSTAMP:20260422T111034
CREATED:20211019T185900Z
LAST-MODIFIED:20230217T164759Z
UID:18106-1611792000-1611792000@www.bc-cpc.ca
SUMMARY:Session 4 Topic – Anti-racist practice–Anti-Racist Tools for the Palliative Care Context Part 2 
DESCRIPTION:[vc_row][vc_column][vc_column_text] \nPresenter – Frank Cohn\, Jhevoi Melville\, MSW\, RSW\, and Ayesha Sackey\, all from VAST\n\nCompetencies – Domain 1 – Principles of PC & palliative approach. Promotes and supports the adaptation of palliative principles in all care settings through capacity building of other care providers/community partners as appropriate for role.\nDomain 2 – Cultural safety & humility. Advocates for incorporation of the person’s and family’s cultural traditions\, beliefs\, expectations\, and preferences into decision making\, care planning and service delivery models.\nAdvocates for changes in policy to facilitate incorporation of culture into care.\nDomain 4 – Comfort & quality of life. Adapts care to address person’s fears and anxieties related to past trauma.\nDomain 7 – Professional & ethical practice. Participates in community awareness and engagement activities to build understanding\, capacity\, and inclusion. Addresses micro\, meso\, and macro factors that influence PC (e.g.\, internal and external barriers\, social determinants of health).\nDomain 8 – Self care. Identifies team and organizational barriers and issues and works collaboratively to address them. Promotes an organizational culture that is safe for expression of multiple perspectives and practicing within ambiguity.\nBecome aware of own level of Racism profile through use of self-assessment tools and anti-racism growth chart.\nBecome more comfortable with using anti-racism tools through application of ACTION tool to a case study. Describe how to respond competently to racial comments\, behaviours\, or policies in the workplace setting through a stance of cultural humility (compassionate\, reflective\, non-judgmental) in practice.\nDescribe the barriers to responding to racism and identify how racism in the workplace impacts individual staff\, clients\, client service\, and organizational culture\n\n[/vc_column_text][/vc_column][/vc_row]
URL:https://www.bc-cpc.ca/event/session-4-topic-anti-racist-practice-anti-racist-tools-for-the-palliative-care-context-part-2/
CATEGORIES:Echo,ECHO Psychosocial Series Cohort 2
END:VEVENT
BEGIN:VEVENT
DTSTART;TZID=America/Vancouver:20201029T000000
DTEND;TZID=America/Vancouver:20201029T000000
DTSTAMP:20260422T111034
CREATED:20211019T183414Z
LAST-MODIFIED:20240227T173952Z
UID:18081-1603929600-1603929600@www.bc-cpc.ca
SUMMARY:Session 2 Topic – Leadership & Education in PC Practice–Leadership\, Advocacy & Education in Psychosocial Palliative Care   
DESCRIPTION:[vc_row][vc_column][vc_column_text] \nPresenter – Anke Krey\, Education and Research Project Facilitator\, Victoria Hospice\, and Wendy Wainwright\, former Director of Clinical Services\, Victoria Hospice \nCompetencies: \n\nDomain 7 – Professional & ethical practice. When appropriate for role\, engages in quality improvement\, research and knowledge translation to advance practice of self and others\, bringing a psychosocial perspective.\nEducates others (teams\, learners\, systems\, community) regarding psychosocial palliative care (PC) and palliative approach.\nTakes leadership in policy\, program development and delivery of psychosocial PC as appropriate for role. Identify “teachable moments” to educate (teams\, learners\, systems\, community) and describe strategies to advocate for psychosocial PC and the palliative approach to advance practice of self and others.\nDescribe opportunities to engage and bring a psychosocial perspective to quality improvement\, research\, and knowledge translation.\nDescribe their role and responsibility in leadership in policy\, program development and delivery of psychosocial PC\n\n[/vc_column_text][/vc_column][/vc_row]
URL:https://www.bc-cpc.ca/event/session-2-topic-leadership-education-in-pc-practice-leadership-advocacy-education-in-psychosocial-palliative-care/
CATEGORIES:Echo,ECHO Psychosocial Series Cohort 2
END:VEVENT
BEGIN:VEVENT
DTSTART;TZID=America/Vancouver:20200605T000000
DTEND;TZID=America/Vancouver:20200605T000000
DTSTAMP:20260422T111034
CREATED:20211019T183738Z
LAST-MODIFIED:20230217T164914Z
UID:18078-1591315200-1591315200@www.bc-cpc.ca
SUMMARY:Session 6 Topic – Supporting Children Affected by Serious Illness
DESCRIPTION:[vc_row][vc_column][vc_column_text] \nPresenter – Camara van Breemen (MN\, CHPCN\, Play Therapist\, Nurse Practitioner(F)\, Canuck Place Children’s Hospice)\nCompetencies –\n\nDomain 5: Comfort and quality of life. Provides developmentally appropriate non-pharmacological interventions within own expertise appropriate including: art\, play therapy\, and relaxation for relief of distress. Refers to other resources as needed.\nDomain 6: Loss\, grief and bereavement. Understands the characteristics and challenges of grieving for a child or youth. Provides counselling support or refers as appropriate.\nExplore strategies to assist parents in sharing serious illness information with children\,\nDiscuss issues related to connection between the seriously ill person and a child\,\nReview activities that may be helpful for children along the illness trajectory and at EOL\n\n[/vc_column_text][/vc_column][/vc_row]
URL:https://www.bc-cpc.ca/event/session-6-topic-supporting-children-affected-by-serious-illness/
CATEGORIES:Echo,ECHO Psychosocial Series Cohort 1
END:VEVENT
BEGIN:VEVENT
DTSTART;TZID=America/Vancouver:20200306T080000
DTEND;TZID=America/Vancouver:20200306T093000
DTSTAMP:20260422T111034
CREATED:20211018T230315Z
LAST-MODIFIED:20240227T173907Z
UID:18068-1583481600-1583487000@www.bc-cpc.ca
SUMMARY:Session 2 - MAiD (Medical Assistance in Dying) 
DESCRIPTION:[vc_row][vc_column][vc_column_text] \nPresenter: \nTammy Dyson (MSW\, RCSW\, Leader\, (MAiD) Fraser Health)  \nCompetency – Domain 5 –Care planning and collaborative practice: \n Explores MAiD-related feelings\, worries and hopes with people and their family.  \nDescribe the context of MAiD including current legislation\, Distinguish between Desire to Die statements and requests for MAiD\, Identify areas for assessment with a request for MAiD\, including the patient\, family and self\, Know how to contact MAiD coordinators in each health authority [/vc_column_text][/vc_column][/vc_row]
URL:https://www.bc-cpc.ca/event/session-2-maid-medical-assistance-in-dying/
LOCATION:online
CATEGORIES:ECHO Psychosocial Series Cohort 1
ORGANIZER;CN="BC Centre for Palliative Care":MAILTO:office@bc-cpc.ca
END:VEVENT
END:VCALENDAR