BEGIN:VCALENDAR
VERSION:2.0
PRODID:-//BC Centre for Palliative Care - ECPv6.15.15//NONSGML v1.0//EN
CALSCALE:GREGORIAN
METHOD:PUBLISH
X-WR-CALNAME:BC Centre for Palliative Care
X-ORIGINAL-URL:https://www.bc-cpc.ca
X-WR-CALDESC:Events for BC Centre for Palliative Care
REFRESH-INTERVAL;VALUE=DURATION:PT1H
X-Robots-Tag:noindex
X-PUBLISHED-TTL:PT1H
BEGIN:VTIMEZONE
TZID:America/Vancouver
BEGIN:DAYLIGHT
TZOFFSETFROM:-0800
TZOFFSETTO:-0700
TZNAME:PDT
DTSTART:20240310T100000
END:DAYLIGHT
BEGIN:STANDARD
TZOFFSETFROM:-0700
TZOFFSETTO:-0800
TZNAME:PST
DTSTART:20241103T090000
END:STANDARD
BEGIN:DAYLIGHT
TZOFFSETFROM:-0800
TZOFFSETTO:-0700
TZNAME:PDT
DTSTART:20250309T100000
END:DAYLIGHT
BEGIN:STANDARD
TZOFFSETFROM:-0700
TZOFFSETTO:-0800
TZNAME:PST
DTSTART:20251102T090000
END:STANDARD
BEGIN:DAYLIGHT
TZOFFSETFROM:-0800
TZOFFSETTO:-0700
TZNAME:PDT
DTSTART:20260308T100000
END:DAYLIGHT
BEGIN:STANDARD
TZOFFSETFROM:-0700
TZOFFSETTO:-0800
TZNAME:PST
DTSTART:20261101T090000
END:STANDARD
END:VTIMEZONE
BEGIN:VEVENT
DTSTART;TZID=America/Vancouver:20250417T120000
DTEND;TZID=America/Vancouver:20250417T130000
DTSTAMP:20260424T200124
CREATED:20250206T204536Z
LAST-MODIFIED:20250429T211932Z
UID:34107-1744891200-1744894800@www.bc-cpc.ca
SUMMARY:Frailty and Dementia: Essential Conversations with Families
DESCRIPTION:Session resources\n\nSession recording: YouTube\nSession summary notes: Frailty & Dementia ECHO session Apr 17\, 2025 summary\nDementia Booklet\nFrailty Roadmap for Family\n\nFor seniors with life-limiting illness and their families\, we need gentle but realistic conversations about their medical conditions\, changes in their abilities and function\, their quality of life\, and goals of care. With a gentle approach to medical truth-telling\, we can avoid potentially burdensome medical interventions\, prevent unnecessary suffering\, and empower families to help provide the best quality of life possible for their loved one. Dr Trevor Janz will model these conversations with families for us; about MOST status\, CPR and ICU\, feeding tubes in stroke and late dementia\, falls and hip fracture\, pneumonia\, dehydration and bladder infections\, and avoiding hospitalization \nPresenters: Dr. Trevor Janz
URL:https://www.bc-cpc.ca/event/fraility-and-dementia/
LOCATION:online
CATEGORIES:Echo,Essential Conversations for Health Care Team
ORGANIZER;CN="BC Centre for Palliative Care-ECHO":MAILTO:echo@bc-cpc.ca
END:VEVENT
END:VCALENDAR