BEGIN:VCALENDAR
VERSION:2.0
PRODID:-//BC Centre for Palliative Care - ECPv6.15.15//NONSGML v1.0//EN
CALSCALE:GREGORIAN
METHOD:PUBLISH
X-WR-CALNAME:BC Centre for Palliative Care
X-ORIGINAL-URL:https://www.bc-cpc.ca
X-WR-CALDESC:Events for BC Centre for Palliative Care
REFRESH-INTERVAL;VALUE=DURATION:PT1H
X-Robots-Tag:noindex
X-PUBLISHED-TTL:PT1H
BEGIN:VTIMEZONE
TZID:America/Vancouver
BEGIN:DAYLIGHT
TZOFFSETFROM:-0800
TZOFFSETTO:-0700
TZNAME:PDT
DTSTART:20240310T100000
END:DAYLIGHT
BEGIN:STANDARD
TZOFFSETFROM:-0700
TZOFFSETTO:-0800
TZNAME:PST
DTSTART:20241103T090000
END:STANDARD
BEGIN:DAYLIGHT
TZOFFSETFROM:-0800
TZOFFSETTO:-0700
TZNAME:PDT
DTSTART:20250309T100000
END:DAYLIGHT
BEGIN:STANDARD
TZOFFSETFROM:-0700
TZOFFSETTO:-0800
TZNAME:PST
DTSTART:20251102T090000
END:STANDARD
BEGIN:DAYLIGHT
TZOFFSETFROM:-0800
TZOFFSETTO:-0700
TZNAME:PDT
DTSTART:20260308T100000
END:DAYLIGHT
BEGIN:STANDARD
TZOFFSETFROM:-0700
TZOFFSETTO:-0800
TZNAME:PST
DTSTART:20261101T090000
END:STANDARD
END:VTIMEZONE
BEGIN:VEVENT
DTSTART;TZID=America/Vancouver:20251217T120000
DTEND;TZID=America/Vancouver:20251217T130000
DTSTAMP:20260422T111043
CREATED:20251007T171426Z
LAST-MODIFIED:20260114T212357Z
UID:35462-1765972800-1765976400@www.bc-cpc.ca
SUMMARY:Implementing the Serious Illness Conversation Program in the East Kootenays
DESCRIPTION:Session Resources\n\nSession summary\nYouTube recording\n\nJoin us to learn about a practical\, evidence-based tool enabling clinicians to have more\, better and earlier conversations with people. Presenters will share about  the Serious Illness Conversation Program (SICP) Implementation toolkit pilot within a rural community in Interior Health. We will share how this toolkit was developed to support identifying barriers and facilitators to SICP implementation and lessons learned from this pilot that can be applied to other care settings and regions. \nPresenters: Laura Finkler-Kemeny\, RN Clinical Lead\, Serious Illness Communication\, BC Centre for Palliative Care and Grace Hu\, MPH Research Coordinator\, BC Centre for Palliative Care
URL:https://www.bc-cpc.ca/event/implementing-the-serious-illness-conversation-program-in-the-east-kootenays/
LOCATION:online
CATEGORIES:Echo,Essential Conversations for Health Care Team
ORGANIZER;CN="BC Centre for Palliative Care-ECHO":MAILTO:echo@bc-cpc.ca
END:VEVENT
END:VCALENDAR