BEGIN:VCALENDAR
VERSION:2.0
PRODID:-//BC Centre for Palliative Care - ECPv6.15.15//NONSGML v1.0//EN
CALSCALE:GREGORIAN
METHOD:PUBLISH
X-ORIGINAL-URL:https://www.bc-cpc.ca
X-WR-CALDESC:Events for BC Centre for Palliative Care
REFRESH-INTERVAL;VALUE=DURATION:PT1H
X-Robots-Tag:noindex
X-PUBLISHED-TTL:PT1H
BEGIN:VTIMEZONE
TZID:America/Vancouver
BEGIN:DAYLIGHT
TZOFFSETFROM:-0800
TZOFFSETTO:-0700
TZNAME:PDT
DTSTART:20250309T100000
END:DAYLIGHT
BEGIN:STANDARD
TZOFFSETFROM:-0700
TZOFFSETTO:-0800
TZNAME:PST
DTSTART:20251102T090000
END:STANDARD
BEGIN:DAYLIGHT
TZOFFSETFROM:-0800
TZOFFSETTO:-0700
TZNAME:PDT
DTSTART:20260308T100000
END:DAYLIGHT
BEGIN:STANDARD
TZOFFSETFROM:-0700
TZOFFSETTO:-0800
TZNAME:PST
DTSTART:20261101T090000
END:STANDARD
BEGIN:DAYLIGHT
TZOFFSETFROM:-0800
TZOFFSETTO:-0700
TZNAME:PDT
DTSTART:20270314T100000
END:DAYLIGHT
BEGIN:STANDARD
TZOFFSETFROM:-0700
TZOFFSETTO:-0800
TZNAME:PST
DTSTART:20271107T090000
END:STANDARD
END:VTIMEZONE
BEGIN:VEVENT
DTSTART;TZID=America/Vancouver:20260507T120000
DTEND;TZID=America/Vancouver:20260507T130000
DTSTAMP:20260422T080644
CREATED:20260331T211119Z
LAST-MODIFIED:20260331T211329Z
UID:36182-1778155200-1778158800@www.bc-cpc.ca
SUMMARY:Palliative Essentials in Long Term Care ECHO: Foundations and Care Planning
DESCRIPTION:Register Here \n\nLearn how to integrate a palliative approach into long term care from move-in\, with a focus on what matters most to residents and their families. This session introduces the foundations of a palliative approach\, supports clinicians in adopting care planning that prepares for both current needs and anticipated changes\, and highlights the new Palliative Essentials education available for staff working in LTC. \nPresenters: Gita Rafiee\, Clinical Nurse Specialist\, Fraser Health Authority for Long-Term Care & Assisted Living  \nFrances Wright\, Palliative Outreach and Consult Team Nurse\, Providence Health Care
URL:https://www.bc-cpc.ca/event/palliative-essentials-in-long-term-care-echo-foundations-and-care-planning/
LOCATION:online
CATEGORIES:Echo,Palliative Essentials in Long Term Care ECHO
ORGANIZER;CN="BC Centre for Palliative Care-ECHO":MAILTO:echo@bc-cpc.ca
END:VEVENT
END:VCALENDAR