BEGIN:VCALENDAR
VERSION:2.0
PRODID:-//BC Centre for Palliative Care - ECPv6.15.15//NONSGML v1.0//EN
CALSCALE:GREGORIAN
METHOD:PUBLISH
X-ORIGINAL-URL:https://www.bc-cpc.ca
X-WR-CALDESC:Events for BC Centre for Palliative Care
REFRESH-INTERVAL;VALUE=DURATION:PT1H
X-Robots-Tag:noindex
X-PUBLISHED-TTL:PT1H
BEGIN:VTIMEZONE
TZID:America/Vancouver
BEGIN:DAYLIGHT
TZOFFSETFROM:-0800
TZOFFSETTO:-0700
TZNAME:PDT
DTSTART:20250309T100000
END:DAYLIGHT
BEGIN:STANDARD
TZOFFSETFROM:-0700
TZOFFSETTO:-0800
TZNAME:PST
DTSTART:20251102T090000
END:STANDARD
BEGIN:DAYLIGHT
TZOFFSETFROM:-0800
TZOFFSETTO:-0700
TZNAME:PDT
DTSTART:20260308T100000
END:DAYLIGHT
BEGIN:STANDARD
TZOFFSETFROM:-0700
TZOFFSETTO:-0800
TZNAME:PST
DTSTART:20261101T090000
END:STANDARD
BEGIN:DAYLIGHT
TZOFFSETFROM:-0800
TZOFFSETTO:-0700
TZNAME:PDT
DTSTART:20270314T100000
END:DAYLIGHT
BEGIN:STANDARD
TZOFFSETFROM:-0700
TZOFFSETTO:-0800
TZNAME:PST
DTSTART:20271107T090000
END:STANDARD
END:VTIMEZONE
BEGIN:VEVENT
DTSTART;TZID=America/Vancouver:20260211T120000
DTEND;TZID=America/Vancouver:20260211T130000
DTSTAMP:20260422T095832
CREATED:20251204T233916Z
LAST-MODIFIED:20260226T205318Z
UID:35727-1770811200-1770814800@www.bc-cpc.ca
SUMMARY:Flexing Your Core ECHO-Supporting Grief & Loss
DESCRIPTION:Session resources:\n\nSession summary notes\n\nPart of our Flexing Your Core ECHO series \nIn this session\, we will discuss how each person’s grief experience is unique. Participants will work through scenarios discussing ways to support patients\, families\, and colleagues.\nCompetency domain: Loss\, Grief\, and Bereavement
URL:https://www.bc-cpc.ca/event/flexing-your-core-echo-supporting-grief-loss-winter-2026/
CATEGORIES:Echo,Flexing Your Core: the 30-minute Palliative Workout
ORGANIZER;CN="BC Centre for Palliative Care-ECHO":MAILTO:echo@bc-cpc.ca
END:VEVENT
END:VCALENDAR