BEGIN:VCALENDAR
VERSION:2.0
PRODID:-//BC Centre for Palliative Care - ECPv6.15.15//NONSGML v1.0//EN
CALSCALE:GREGORIAN
METHOD:PUBLISH
X-ORIGINAL-URL:https://www.bc-cpc.ca
X-WR-CALDESC:Events for BC Centre for Palliative Care
REFRESH-INTERVAL;VALUE=DURATION:PT1H
X-Robots-Tag:noindex
X-PUBLISHED-TTL:PT1H
BEGIN:VTIMEZONE
TZID:America/Vancouver
BEGIN:DAYLIGHT
TZOFFSETFROM:-0800
TZOFFSETTO:-0700
TZNAME:PDT
DTSTART:20240310T100000
END:DAYLIGHT
BEGIN:STANDARD
TZOFFSETFROM:-0700
TZOFFSETTO:-0800
TZNAME:PST
DTSTART:20241103T090000
END:STANDARD
BEGIN:DAYLIGHT
TZOFFSETFROM:-0800
TZOFFSETTO:-0700
TZNAME:PDT
DTSTART:20250309T100000
END:DAYLIGHT
BEGIN:STANDARD
TZOFFSETFROM:-0700
TZOFFSETTO:-0800
TZNAME:PST
DTSTART:20251102T090000
END:STANDARD
BEGIN:DAYLIGHT
TZOFFSETFROM:-0800
TZOFFSETTO:-0700
TZNAME:PDT
DTSTART:20260308T100000
END:DAYLIGHT
BEGIN:STANDARD
TZOFFSETFROM:-0700
TZOFFSETTO:-0800
TZNAME:PST
DTSTART:20261101T090000
END:STANDARD
END:VTIMEZONE
BEGIN:VEVENT
DTSTART;TZID=America/Vancouver:20251021T120000
DTEND;TZID=America/Vancouver:20251021T130000
DTSTAMP:20260422T183500
CREATED:20250624T211336Z
LAST-MODIFIED:20251028T200358Z
UID:34872-1761048000-1761051600@www.bc-cpc.ca
SUMMARY:Islanders Helping Islanders - Quadra's Rural Vision for Wrap-around Palliative Care
DESCRIPTION:Session resources\n\nSession Summary Note \nSession recording: YouTube\n\nPart of the All Together ECHO Series \nHow does a small rural community with limited medical resources and aging volunteers enhance supports for people with life-changing illness and their families? Join Quadra Island Compassionate Community’s project team to share approaches\, including educating the community to help themselves and each other to navigate the challenges of serious illness\, caregiving\, end-of-life and grieving \nPresenters: Maureen McDowell (Quadra Circle)\, Jude McCormick (Way To Go Group)\, Kathleen Monahan (Nav-CARE) \n 
URL:https://www.bc-cpc.ca/event/mislanders-helping-islanders-quadras-rural-vision-for-wrap-around-palliative-care/
CATEGORIES:All Together,Echo
ORGANIZER;CN="BC Centre for Palliative Care-ECHO":MAILTO:echo@bc-cpc.ca
END:VEVENT
END:VCALENDAR