BEGIN:VCALENDAR
VERSION:2.0
PRODID:-//BC Centre for Palliative Care - ECPv6.15.15//NONSGML v1.0//EN
CALSCALE:GREGORIAN
METHOD:PUBLISH
X-ORIGINAL-URL:https://www.bc-cpc.ca
X-WR-CALDESC:Events for BC Centre for Palliative Care
REFRESH-INTERVAL;VALUE=DURATION:PT1H
X-Robots-Tag:noindex
X-PUBLISHED-TTL:PT1H
BEGIN:VTIMEZONE
TZID:America/Vancouver
BEGIN:DAYLIGHT
TZOFFSETFROM:-0800
TZOFFSETTO:-0700
TZNAME:PDT
DTSTART:20240310T100000
END:DAYLIGHT
BEGIN:STANDARD
TZOFFSETFROM:-0700
TZOFFSETTO:-0800
TZNAME:PST
DTSTART:20241103T090000
END:STANDARD
BEGIN:DAYLIGHT
TZOFFSETFROM:-0800
TZOFFSETTO:-0700
TZNAME:PDT
DTSTART:20250309T100000
END:DAYLIGHT
BEGIN:STANDARD
TZOFFSETFROM:-0700
TZOFFSETTO:-0800
TZNAME:PST
DTSTART:20251102T090000
END:STANDARD
BEGIN:DAYLIGHT
TZOFFSETFROM:-0800
TZOFFSETTO:-0700
TZNAME:PDT
DTSTART:20260308T100000
END:DAYLIGHT
BEGIN:STANDARD
TZOFFSETFROM:-0700
TZOFFSETTO:-0800
TZNAME:PST
DTSTART:20261101T090000
END:STANDARD
END:VTIMEZONE
BEGIN:VEVENT
DTSTART;TZID=America/Vancouver:20250826T120000
DTEND;TZID=America/Vancouver:20250826T130000
DTSTAMP:20260422T201431
CREATED:20250603T201650Z
LAST-MODIFIED:20251001T225639Z
UID:34767-1756209600-1756213200@www.bc-cpc.ca
SUMMARY:Flexing Your Core ECHO-Ethical practice\, Education\, Evaluation\, Quality Improvement & Research (Summer 2025)
DESCRIPTION:Session resources\n\nSession summary notes\n\nIn this session we will identify and discuss common ethical issues in palliative care and we will talk through steps to take in addressing ethical issues by discussing a case scenario.  Participants will have the opportunity to discuss how education\, evaluation\, QI and research are important in palliative care context. \nPart of our Flexing Your Core ECHO series
URL:https://www.bc-cpc.ca/event/flexing-your-core-echo-ethical-practice-education-evaluation-quality-improvement-research-and-advocacy-summer-2025/
CATEGORIES:Echo,Flexing Your Core: the 30-minute Palliative Workout
ORGANIZER;CN="BC Centre for Palliative Care-ECHO":MAILTO:echo@bc-cpc.ca
END:VEVENT
END:VCALENDAR