BEGIN:VCALENDAR
VERSION:2.0
PRODID:-//BC Centre for Palliative Care - ECPv6.15.15//NONSGML v1.0//EN
CALSCALE:GREGORIAN
METHOD:PUBLISH
X-ORIGINAL-URL:https://www.bc-cpc.ca
X-WR-CALDESC:Events for BC Centre for Palliative Care
REFRESH-INTERVAL;VALUE=DURATION:PT1H
X-Robots-Tag:noindex
X-PUBLISHED-TTL:PT1H
BEGIN:VTIMEZONE
TZID:America/Vancouver
BEGIN:DAYLIGHT
TZOFFSETFROM:-0800
TZOFFSETTO:-0700
TZNAME:PDT
DTSTART:20240310T100000
END:DAYLIGHT
BEGIN:STANDARD
TZOFFSETFROM:-0700
TZOFFSETTO:-0800
TZNAME:PST
DTSTART:20241103T090000
END:STANDARD
BEGIN:DAYLIGHT
TZOFFSETFROM:-0800
TZOFFSETTO:-0700
TZNAME:PDT
DTSTART:20250309T100000
END:DAYLIGHT
BEGIN:STANDARD
TZOFFSETFROM:-0700
TZOFFSETTO:-0800
TZNAME:PST
DTSTART:20251102T090000
END:STANDARD
BEGIN:DAYLIGHT
TZOFFSETFROM:-0800
TZOFFSETTO:-0700
TZNAME:PDT
DTSTART:20260308T100000
END:DAYLIGHT
BEGIN:STANDARD
TZOFFSETFROM:-0700
TZOFFSETTO:-0800
TZNAME:PST
DTSTART:20261101T090000
END:STANDARD
END:VTIMEZONE
BEGIN:VEVENT
DTSTART;TZID=America/Vancouver:20250805T120000
DTEND;TZID=America/Vancouver:20250805T130000
DTSTAMP:20260422T213732
CREATED:20250603T201120Z
LAST-MODIFIED:20250811T193710Z
UID:34760-1754395200-1754398800@www.bc-cpc.ca
SUMMARY:Flexing Your Core ECHO-Loss\, Grief & Bereavement (Summer 2025)
DESCRIPTION:Session resources\n\nSession discussion summary\n\nIn this session we will discuss how each person’s grief experience is unique. Participants will work through scenarios discussing ways to support patients and colleagues. \nPart of our Flexing Your Core ECHO series
URL:https://www.bc-cpc.ca/event/flexing-your-core-echo-loss-grief-bereavement-summer-2025/
CATEGORIES:Echo,Flexing Your Core: the 30-minute Palliative Workout
ORGANIZER;CN="BC Centre for Palliative Care-ECHO":MAILTO:echo@bc-cpc.ca
END:VEVENT
BEGIN:VEVENT
DTSTART;TZID=America/Vancouver:20250812T120000
DTEND;TZID=America/Vancouver:20250812T130000
DTSTAMP:20260422T213732
CREATED:20250603T201308Z
LAST-MODIFIED:20250813T212813Z
UID:34762-1755000000-1755003600@www.bc-cpc.ca
SUMMARY:Flexing Your Core ECHO-Self-care (Summer 2025)
DESCRIPTION:Session resources\n\nSession summary notes\n\nAs healthcare providers we know self-care is important yet it’s something many of us may not take time to reflect on. This session we will reflect on our own self-care needs in relation to supporting patients approaching end of life. We will also discuss ways to support each other as a team in supporting end of life patients. \nPart of our Flexing Your Core ECHO series
URL:https://www.bc-cpc.ca/event/flexing-your-core-echo-self-care-summer-2025/
CATEGORIES:Echo,Flexing Your Core: the 30-minute Palliative Workout
ORGANIZER;CN="BC Centre for Palliative Care-ECHO":MAILTO:echo@bc-cpc.ca
END:VEVENT
BEGIN:VEVENT
DTSTART;TZID=America/Vancouver:20250819T120000
DTEND;TZID=America/Vancouver:20250819T130000
DTSTAMP:20260422T213732
CREATED:20250603T201448Z
LAST-MODIFIED:20250827T160153Z
UID:34764-1755604800-1755608400@www.bc-cpc.ca
SUMMARY:Flexing Your Core ECHO-Care Planning\, Collaborative Practice & Advocacy (Summer 2025)
DESCRIPTION:Session resources\n\nSession summary notes\n\nWe will identify the importance of determining a person’s goals for their care at end of life and discuss key elements of anticipatory care planning along with some ideas on what advocacy in your role can look like. \nPart of our Flexing Your Core ECHO series
URL:https://www.bc-cpc.ca/event/flexing-your-core-echo-care-planning-collaborative-practice-summer-2025/
CATEGORIES:Echo,Flexing Your Core: the 30-minute Palliative Workout
ORGANIZER;CN="BC Centre for Palliative Care-ECHO":MAILTO:echo@bc-cpc.ca
END:VEVENT
BEGIN:VEVENT
DTSTART;TZID=America/Vancouver:20250826T120000
DTEND;TZID=America/Vancouver:20250826T130000
DTSTAMP:20260422T213732
CREATED:20250603T201650Z
LAST-MODIFIED:20251001T225639Z
UID:34767-1756209600-1756213200@www.bc-cpc.ca
SUMMARY:Flexing Your Core ECHO-Ethical practice\, Education\, Evaluation\, Quality Improvement & Research (Summer 2025)
DESCRIPTION:Session resources\n\nSession summary notes\n\nIn this session we will identify and discuss common ethical issues in palliative care and we will talk through steps to take in addressing ethical issues by discussing a case scenario.  Participants will have the opportunity to discuss how education\, evaluation\, QI and research are important in palliative care context. \nPart of our Flexing Your Core ECHO series
URL:https://www.bc-cpc.ca/event/flexing-your-core-echo-ethical-practice-education-evaluation-quality-improvement-research-and-advocacy-summer-2025/
CATEGORIES:Echo,Flexing Your Core: the 30-minute Palliative Workout
ORGANIZER;CN="BC Centre for Palliative Care-ECHO":MAILTO:echo@bc-cpc.ca
END:VEVENT
BEGIN:VEVENT
DTSTART;TZID=America/Vancouver:20250828T120000
DTEND;TZID=America/Vancouver:20250828T130000
DTSTAMP:20260422T213732
CREATED:20250401T172126Z
LAST-MODIFIED:20251001T225704Z
UID:34398-1756382400-1756386000@www.bc-cpc.ca
SUMMARY:Experiencing Grief as a Health Care Provider
DESCRIPTION:Session resources\n\nSession recording: YouTube\nsession summary notes\n\nPart of our Grief & Bereavement Literacy ECHO Series \n\nFront-line nurses\, and clinicians\, carry the weight of repeated loss — sitting with patients in their final moments\, then moving immediately to the next urgent task. Research in hospice and palliative care shows this cumulative\, often unacknowledged grief impacts our emotional health\, our relationships with patients\, and our ability to sustain compassionate care over time. This session will weave clinical narratives with current evidence to explore how we can name\, honor\, and address professional grief — and why policy change\, including bereavement leave reform\, is essential to protect the wellbeing of care providers. \nPoster you can print and share linked here. \nPresenter: Laura Finkler-Kemeny\, RN Clinical Lead\, Serious Illness Communication\, BC Centre for Palliative Care \n\n  \nThis series is for anyone interested in increasing their knowledge around grief and bereavement to support them personally or in their professional careers.
URL:https://www.bc-cpc.ca/event/experiencing-grief-as-a-health-care-provider/
LOCATION:online
CATEGORIES:Echo,Grief & Bereavement Literacy ECHO series
ORGANIZER;CN="BC Centre for Palliative Care-ECHO":MAILTO:echo@bc-cpc.ca
END:VEVENT
END:VCALENDAR