BEGIN:VCALENDAR
VERSION:2.0
PRODID:-//BC Centre for Palliative Care - ECPv6.15.15//NONSGML v1.0//EN
CALSCALE:GREGORIAN
METHOD:PUBLISH
X-WR-CALNAME:BC Centre for Palliative Care
X-ORIGINAL-URL:https://www.bc-cpc.ca
X-WR-CALDESC:Events for BC Centre for Palliative Care
REFRESH-INTERVAL;VALUE=DURATION:PT1H
X-Robots-Tag:noindex
X-PUBLISHED-TTL:PT1H
BEGIN:VTIMEZONE
TZID:America/Vancouver
BEGIN:DAYLIGHT
TZOFFSETFROM:-0800
TZOFFSETTO:-0700
TZNAME:PDT
DTSTART:20240310T100000
END:DAYLIGHT
BEGIN:STANDARD
TZOFFSETFROM:-0700
TZOFFSETTO:-0800
TZNAME:PST
DTSTART:20241103T090000
END:STANDARD
BEGIN:DAYLIGHT
TZOFFSETFROM:-0800
TZOFFSETTO:-0700
TZNAME:PDT
DTSTART:20250309T100000
END:DAYLIGHT
BEGIN:STANDARD
TZOFFSETFROM:-0700
TZOFFSETTO:-0800
TZNAME:PST
DTSTART:20251102T090000
END:STANDARD
BEGIN:DAYLIGHT
TZOFFSETFROM:-0800
TZOFFSETTO:-0700
TZNAME:PDT
DTSTART:20260308T100000
END:DAYLIGHT
BEGIN:STANDARD
TZOFFSETFROM:-0700
TZOFFSETTO:-0800
TZNAME:PST
DTSTART:20261101T090000
END:STANDARD
END:VTIMEZONE
BEGIN:VEVENT
DTSTART;TZID=America/Vancouver:20250708T120000
DTEND;TZID=America/Vancouver:20250708T130000
DTSTAMP:20260422T201114
CREATED:20250602T225525Z
LAST-MODIFIED:20250714T222354Z
UID:34744-1751976000-1751979600@www.bc-cpc.ca
SUMMARY:Flexing Your Core ECHO-Principles of Palliative Care and Palliative Approach (Summer 2025)
DESCRIPTION:Session Resources:\n\nFYC Principles of Palliative Care and Palliative Approach summer 2025 – session summary\n\nThis session introduces key concepts of a palliative approach. We will discuss who would benefit from a palliative approach to care and talk about a health care provider’s role in providing this approach to care for their patients. A case study will be discussed with participants to give opportunity to reflect on their learnings. \nPart of our Flexing Your Core ECHO series
URL:https://www.bc-cpc.ca/event/flexing-your-core-echo-principles-of-palliative-care-and-palliative-approach-summer-2025/
CATEGORIES:Echo,Flexing Your Core: the 30-minute Palliative Workout
ORGANIZER;CN="BC Centre for Palliative Care-ECHO":MAILTO:echo@bc-cpc.ca
END:VEVENT
BEGIN:VEVENT
DTSTART;TZID=America/Vancouver:20250715T120000
DTEND;TZID=America/Vancouver:20250715T130000
DTSTAMP:20260422T201114
CREATED:20250603T173456Z
LAST-MODIFIED:20250716T224608Z
UID:34750-1752580800-1752584400@www.bc-cpc.ca
SUMMARY:Flexing Your Core ECHO-Cultural Safety & Humility (Summer 2025)
DESCRIPTION:Session resources\n\nSession summary and discussion notes\n\nThis session explores concepts such as privilege and how it can lead to culturally inappropriate care. Scenarios will be presented to learners and the session will focus on recognizing ways to respond\, identifying that each individual we care for is unique\, and understanding personal and systemic biases to work towards providing culturally safer care. \nPart of our Flexing Your Core ECHO series
URL:https://www.bc-cpc.ca/event/cultural-safety-humility-sum-2025/
CATEGORIES:Echo,Flexing Your Core: the 30-minute Palliative Workout
ORGANIZER;CN="BC Centre for Palliative Care-ECHO":MAILTO:echo@bc-cpc.ca
END:VEVENT
BEGIN:VEVENT
DTSTART;TZID=America/Vancouver:20250722T120000
DTEND;TZID=America/Vancouver:20250722T130000
DTSTAMP:20260422T201114
CREATED:20250603T195708Z
LAST-MODIFIED:20250730T153557Z
UID:34754-1753185600-1753189200@www.bc-cpc.ca
SUMMARY:Flexing Your Core ECHO-Communication & Virtual Care (Summer 2025)
DESCRIPTION:Session resources\n\nSession discussion summary\n\nThis session we will discuss foundational communication skills such as active listening. We will also explore a person-centered framework used to guide conversations focusing on what’s important to a person with life-limiting illness. Participants will also have the opportunity to discuss providing virtual care and ways to provide person-centered care in a virtual care appointment \n  \nPart of our Flexing Your Core ECHO series
URL:https://www.bc-cpc.ca/event/flexing-your-core-echo-communication-virtual-care-summer-2025/
CATEGORIES:Echo,Flexing Your Core: the 30-minute Palliative Workout
ORGANIZER;CN="BC Centre for Palliative Care-ECHO":MAILTO:echo@bc-cpc.ca
END:VEVENT
BEGIN:VEVENT
DTSTART;TZID=America/Vancouver:20250729T120000
DTEND;TZID=America/Vancouver:20250729T130000
DTSTAMP:20260422T201114
CREATED:20250603T200150Z
LAST-MODIFIED:20250811T193602Z
UID:34756-1753790400-1753794000@www.bc-cpc.ca
SUMMARY:Flexing Your Core ECHO-Optimizing Comfort & Quality of Life & Last Days and Hours (Summer 2025)
DESCRIPTION:Session resources\n\nSession discussion summary\n\nThis session is an introduction to promoting comfort and quality of life for people with life-limiting illness. Learners will discuss applying the steps of symptom management and supporting wellness to a case study. We will also discuss what the last days and hours of someone’s life can look like as and how you can support this journey as part of their care team. \nPart of our Flexing Your Core ECHO series
URL:https://www.bc-cpc.ca/event/flexing-your-core-echo-optimizing-comfort-quality-of-life-last-days-and-hours-summer-2025/
CATEGORIES:Echo,Flexing Your Core: the 30-minute Palliative Workout
ORGANIZER;CN="BC Centre for Palliative Care-ECHO":MAILTO:echo@bc-cpc.ca
END:VEVENT
BEGIN:VEVENT
DTSTART;TZID=America/Vancouver:20250731T120000
DTEND;TZID=America/Vancouver:20250731T130000
DTSTAMP:20260422T201114
CREATED:20250401T173002Z
LAST-MODIFIED:20251001T225555Z
UID:34409-1753963200-1753966800@www.bc-cpc.ca
SUMMARY:Inking the Bond
DESCRIPTION:Session resources\n\nSession summary notes\nsession recording: YouTube video\n\n\nPart of our Grief & Bereavement Literacy ECHO Series \nThis talk is a conversation about tattoos\, grief\, and growth. Stories will be drawn from research and personal experience. The three speakers are all social workers who love to talk about tattoos\, the intersection of taboo\, the connection to the deceased and the way they can contribute to the process of meaning making. \nPoster you can print and share linked here. \nPresenter: Susan Cadell\, PhD\, RSW Professor\, School of Social Work\, Renison University College \n\n  \nThis series is for anyone interested in increasing their knowledge around grief and bereavement to support them personally or in their professional careers.
URL:https://www.bc-cpc.ca/event/inking-the-bond/
LOCATION:online
CATEGORIES:Echo,Grief & Bereavement Literacy ECHO series
ORGANIZER;CN="BC Centre for Palliative Care-ECHO":MAILTO:echo@bc-cpc.ca
END:VEVENT
END:VCALENDAR