BEGIN:VCALENDAR
VERSION:2.0
PRODID:-//BC Centre for Palliative Care - ECPv6.15.15//NONSGML v1.0//EN
CALSCALE:GREGORIAN
METHOD:PUBLISH
X-WR-CALNAME:BC Centre for Palliative Care
X-ORIGINAL-URL:https://www.bc-cpc.ca
X-WR-CALDESC:Events for BC Centre for Palliative Care
REFRESH-INTERVAL;VALUE=DURATION:PT1H
X-Robots-Tag:noindex
X-PUBLISHED-TTL:PT1H
BEGIN:VTIMEZONE
TZID:America/Vancouver
BEGIN:DAYLIGHT
TZOFFSETFROM:-0800
TZOFFSETTO:-0700
TZNAME:PDT
DTSTART:20250309T100000
END:DAYLIGHT
BEGIN:STANDARD
TZOFFSETFROM:-0700
TZOFFSETTO:-0800
TZNAME:PST
DTSTART:20251102T090000
END:STANDARD
BEGIN:DAYLIGHT
TZOFFSETFROM:-0800
TZOFFSETTO:-0700
TZNAME:PDT
DTSTART:20260308T100000
END:DAYLIGHT
BEGIN:STANDARD
TZOFFSETFROM:-0700
TZOFFSETTO:-0800
TZNAME:PST
DTSTART:20261101T090000
END:STANDARD
BEGIN:DAYLIGHT
TZOFFSETFROM:-0800
TZOFFSETTO:-0700
TZNAME:PDT
DTSTART:20270314T100000
END:DAYLIGHT
BEGIN:STANDARD
TZOFFSETFROM:-0700
TZOFFSETTO:-0800
TZNAME:PST
DTSTART:20271107T090000
END:STANDARD
END:VTIMEZONE
BEGIN:VEVENT
DTSTART;TZID=America/Vancouver:20260218T120000
DTEND;TZID=America/Vancouver:20260218T130000
DTSTAMP:20260422T064147
CREATED:20251204T234044Z
LAST-MODIFIED:20260226T211045Z
UID:35732-1771416000-1771419600@www.bc-cpc.ca
SUMMARY:Flexing Your Core ECHO-At the Core of Caring
DESCRIPTION:Session resources\n\nSession summary notes\n\nPart of our Flexing Your Core ECHO series \nAs healthcare providers\, we know self-care is important\, yet it’s something many of us may not take time to reflect on. This session we will focus on our own self-care needs and discuss ways to support each other\, ourselves and our colleagues.\nCompetency domain: Self-care
URL:https://www.bc-cpc.ca/event/flexing-your-core-echo-at-the-core-of-caring-winter-2026/
CATEGORIES:Echo,Flexing Your Core: the 30-minute Palliative Workout
ORGANIZER;CN="BC Centre for Palliative Care-ECHO":MAILTO:echo@bc-cpc.ca
END:VEVENT
END:VCALENDAR